BEGIN:VCALENDAR
VERSION:2.0
PRODID:-//Cornwall CT - ECPv6.15.20//NONSGML v1.0//EN
CALSCALE:GREGORIAN
METHOD:PUBLISH
X-ORIGINAL-URL:https://cornwallct.org
X-WR-CALDESC:Events for Cornwall CT
REFRESH-INTERVAL;VALUE=DURATION:PT1H
X-Robots-Tag:noindex
X-PUBLISHED-TTL:PT1H
BEGIN:VTIMEZONE
TZID:America/New_York
BEGIN:DAYLIGHT
TZOFFSETFROM:-0500
TZOFFSETTO:-0400
TZNAME:EDT
DTSTART:20210314T070000
END:DAYLIGHT
BEGIN:STANDARD
TZOFFSETFROM:-0400
TZOFFSETTO:-0500
TZNAME:EST
DTSTART:20211107T060000
END:STANDARD
BEGIN:DAYLIGHT
TZOFFSETFROM:-0500
TZOFFSETTO:-0400
TZNAME:EDT
DTSTART:20220313T070000
END:DAYLIGHT
BEGIN:STANDARD
TZOFFSETFROM:-0400
TZOFFSETTO:-0500
TZNAME:EST
DTSTART:20221106T060000
END:STANDARD
BEGIN:DAYLIGHT
TZOFFSETFROM:-0500
TZOFFSETTO:-0400
TZNAME:EDT
DTSTART:20230312T070000
END:DAYLIGHT
BEGIN:STANDARD
TZOFFSETFROM:-0400
TZOFFSETTO:-0500
TZNAME:EST
DTSTART:20231105T060000
END:STANDARD
END:VTIMEZONE
BEGIN:VEVENT
DTSTART;TZID=America/New_York:20220514T090000
DTEND;TZID=America/New_York:20220514T123000
DTSTAMP:20260423T034621
CREATED:20210416T180609Z
LAST-MODIFIED:20220612T145454Z
UID:13581-1652518800-1652531400@cornwallct.org
SUMMARY:Cornwall Co-Op Farm Market
DESCRIPTION:On the Village green
URL:https://cornwallct.org/event/cornwall-co-op-farm-market/2022-05-14/
LOCATION:Cornwall Village Green\, Pine Street\, Cornwall\, CT\, 06753\, United States
ATTACH;FMTTYPE=image/jpeg:https://cornwallct.org/wp-content/uploads/2021/04/cornwall-markets.jpg
ORGANIZER;CN="Cornwall Co-Op Farm Market":MAILTO:cornwallcoopfm@gmail.com
END:VEVENT
BEGIN:VEVENT
DTSTART;TZID=America/New_York:20220514T160000
DTEND;TZID=America/New_York:20220514T190000
DTSTAMP:20260423T034621
CREATED:20220425T131051Z
LAST-MODIFIED:20220425T131051Z
UID:18332-1652544000-1652554800@cornwallct.org
SUMMARY:Local Boy Scout Troop 35 Annual Dinner Fundraiser - Goshen Fairgrounds
DESCRIPTION:Local Boy Scout Troop 35 will hold its annual dinner fundraiser at the Goshen Fairgrounds on Saturday\, May 14\, from 4 to 7 p.m. Music provided by DJ Jacque Williams.$20 donation per meal. Tickets available at the door or call your local Scout—Hudson Sebranek at 672-0041.
URL:https://cornwallct.org/event/local-boy-scout-troop-35-annual-dinner-fundraiser-goshen-fairgrounds/
LOCATION:Goshen Fairgrounds\, 116 Old Middle Street\, Goshen\, CT\, United States
END:VEVENT
END:VCALENDAR