BEGIN:VCALENDAR
VERSION:2.0
PRODID:-//Cornwall CT - ECPv6.15.20//NONSGML v1.0//EN
CALSCALE:GREGORIAN
METHOD:PUBLISH
X-ORIGINAL-URL:https://cornwallct.org
X-WR-CALDESC:Events for Cornwall CT
REFRESH-INTERVAL;VALUE=DURATION:PT1H
X-Robots-Tag:noindex
X-PUBLISHED-TTL:PT1H
BEGIN:VTIMEZONE
TZID:America/New_York
BEGIN:DAYLIGHT
TZOFFSETFROM:-0500
TZOFFSETTO:-0400
TZNAME:EDT
DTSTART:20210314T070000
END:DAYLIGHT
BEGIN:STANDARD
TZOFFSETFROM:-0400
TZOFFSETTO:-0500
TZNAME:EST
DTSTART:20211107T060000
END:STANDARD
BEGIN:DAYLIGHT
TZOFFSETFROM:-0500
TZOFFSETTO:-0400
TZNAME:EDT
DTSTART:20220313T070000
END:DAYLIGHT
BEGIN:STANDARD
TZOFFSETFROM:-0400
TZOFFSETTO:-0500
TZNAME:EST
DTSTART:20221106T060000
END:STANDARD
BEGIN:DAYLIGHT
TZOFFSETFROM:-0500
TZOFFSETTO:-0400
TZNAME:EDT
DTSTART:20230312T070000
END:DAYLIGHT
BEGIN:STANDARD
TZOFFSETFROM:-0400
TZOFFSETTO:-0500
TZNAME:EST
DTSTART:20231105T060000
END:STANDARD
END:VTIMEZONE
BEGIN:VEVENT
DTSTART;TZID=America/New_York:20220430T130000
DTEND;TZID=America/New_York:20220430T140000
DTSTAMP:20260422T021249
CREATED:20220316T105558Z
LAST-MODIFIED:20220316T105620Z
UID:18062-1651323600-1651327200@cornwallct.org
SUMMARY:Hike Trinity Preserve with Dr. Rob Clark
DESCRIPTION:Join Cornwall Conservation Trust for a follow-up hike and talk on local insects given by Dr. Rob Clark from Great Hollow Nature Preserve & Ecological Research Center in New Fairfield. Please meet at the Dibble Hill entrance to the Trinity Preserve. He will cover both the good and bad ones\, pollinators to invasives.  You can see Rob’s talk on the Cornwall Library website.  Please follow Covid precautions and tick proof!
URL:https://cornwallct.org/event/hike-trinity-preserve-with-dr-rob-clark/
END:VEVENT
END:VCALENDAR