BEGIN:VCALENDAR
VERSION:2.0
PRODID:-//Cornwall CT - ECPv6.15.20//NONSGML v1.0//EN
CALSCALE:GREGORIAN
METHOD:PUBLISH
X-ORIGINAL-URL:https://cornwallct.org
X-WR-CALDESC:Events for Cornwall CT
REFRESH-INTERVAL;VALUE=DURATION:PT1H
X-Robots-Tag:noindex
X-PUBLISHED-TTL:PT1H
BEGIN:VTIMEZONE
TZID:America/New_York
BEGIN:DAYLIGHT
TZOFFSETFROM:-0500
TZOFFSETTO:-0400
TZNAME:EDT
DTSTART:20210314T070000
END:DAYLIGHT
BEGIN:STANDARD
TZOFFSETFROM:-0400
TZOFFSETTO:-0500
TZNAME:EST
DTSTART:20211107T060000
END:STANDARD
BEGIN:DAYLIGHT
TZOFFSETFROM:-0500
TZOFFSETTO:-0400
TZNAME:EDT
DTSTART:20220313T070000
END:DAYLIGHT
BEGIN:STANDARD
TZOFFSETFROM:-0400
TZOFFSETTO:-0500
TZNAME:EST
DTSTART:20221106T060000
END:STANDARD
BEGIN:DAYLIGHT
TZOFFSETFROM:-0500
TZOFFSETTO:-0400
TZNAME:EDT
DTSTART:20230312T070000
END:DAYLIGHT
BEGIN:STANDARD
TZOFFSETFROM:-0400
TZOFFSETTO:-0500
TZNAME:EST
DTSTART:20231105T060000
END:STANDARD
END:VTIMEZONE
BEGIN:VEVENT
DTSTART;TZID=America/New_York:20220423T100000
DTEND;TZID=America/New_York:20220423T120000
DTSTAMP:20260425T113557
CREATED:20220316T105254Z
LAST-MODIFIED:20220316T105254Z
UID:18061-1650708000-1650715200@cornwallct.org
SUMMARY:Trail Introduction at Furnace Brook Preserve
DESCRIPTION:Join Cornwall Conservation Trust’s President Barton Jones who will be introducing the Blue Trail Spur on the Furnace Brook Preserve. Meet at Foote Field. Please follow Covid precautions and tick proof!  
URL:https://cornwallct.org/event/trail-introduction-at-furnace-brook-preserve/
LOCATION:Foote Fields\, Furnace Brook Road\, Cornwall Bridge\, CT\, 06754
END:VEVENT
END:VCALENDAR