BEGIN:VCALENDAR
VERSION:2.0
PRODID:-//Cornwall CT - ECPv6.15.20//NONSGML v1.0//EN
CALSCALE:GREGORIAN
METHOD:PUBLISH
X-ORIGINAL-URL:https://cornwallct.org
X-WR-CALDESC:Events for Cornwall CT
REFRESH-INTERVAL;VALUE=DURATION:PT1H
X-Robots-Tag:noindex
X-PUBLISHED-TTL:PT1H
BEGIN:VTIMEZONE
TZID:America/New_York
BEGIN:DAYLIGHT
TZOFFSETFROM:-0500
TZOFFSETTO:-0400
TZNAME:EDT
DTSTART:20210314T070000
END:DAYLIGHT
BEGIN:STANDARD
TZOFFSETFROM:-0400
TZOFFSETTO:-0500
TZNAME:EST
DTSTART:20211107T060000
END:STANDARD
BEGIN:DAYLIGHT
TZOFFSETFROM:-0500
TZOFFSETTO:-0400
TZNAME:EDT
DTSTART:20220313T070000
END:DAYLIGHT
BEGIN:STANDARD
TZOFFSETFROM:-0400
TZOFFSETTO:-0500
TZNAME:EST
DTSTART:20221106T060000
END:STANDARD
BEGIN:DAYLIGHT
TZOFFSETFROM:-0500
TZOFFSETTO:-0400
TZNAME:EDT
DTSTART:20230312T070000
END:DAYLIGHT
BEGIN:STANDARD
TZOFFSETFROM:-0400
TZOFFSETTO:-0500
TZNAME:EST
DTSTART:20231105T060000
END:STANDARD
END:VTIMEZONE
BEGIN:VEVENT
DTSTART;TZID=America/New_York:20220117T160000
DTEND;TZID=America/New_York:20220117T160000
DTSTAMP:20260420T092603
CREATED:20211215T192637Z
LAST-MODIFIED:20211215T192649Z
UID:17181-1642435200-1642435200@cornwallct.org
SUMMARY:Dr. Martin Luther King\, Jr. and Connecticut Black History - Zoom
DESCRIPTION:Cornwall resident and historian Jeremy Brecher will discuss MLK’s formative experiences picking tobacco in CT as a young man and take a broader look at the history of Black people in CT. Jeremy Brecher was the writer and historian for several Connecticut Public Television documentaries on Connecticut Black history and has been a Cornwall resident since 1949.   \nRegistration is required at CornwallLibrary.org.
URL:https://cornwallct.org/event/dr-martin-luther-king-jr-and-connecticut-black-history-zoom/
LOCATION:Virtual
ORGANIZER;CN="The Cornwall Library":MAILTO:director@cornwalllibrary.org
END:VEVENT
END:VCALENDAR