BEGIN:VCALENDAR
VERSION:2.0
PRODID:-//Cornwall CT - ECPv6.15.20//NONSGML v1.0//EN
CALSCALE:GREGORIAN
METHOD:PUBLISH
X-WR-CALNAME:Cornwall CT
X-ORIGINAL-URL:https://cornwallct.org
X-WR-CALDESC:Events for Cornwall CT
REFRESH-INTERVAL;VALUE=DURATION:PT1H
X-Robots-Tag:noindex
X-PUBLISHED-TTL:PT1H
BEGIN:VTIMEZONE
TZID:America/New_York
BEGIN:DAYLIGHT
TZOFFSETFROM:-0500
TZOFFSETTO:-0400
TZNAME:EDT
DTSTART:20210314T070000
END:DAYLIGHT
BEGIN:STANDARD
TZOFFSETFROM:-0400
TZOFFSETTO:-0500
TZNAME:EST
DTSTART:20211107T060000
END:STANDARD
BEGIN:DAYLIGHT
TZOFFSETFROM:-0500
TZOFFSETTO:-0400
TZNAME:EDT
DTSTART:20220313T070000
END:DAYLIGHT
BEGIN:STANDARD
TZOFFSETFROM:-0400
TZOFFSETTO:-0500
TZNAME:EST
DTSTART:20221106T060000
END:STANDARD
BEGIN:DAYLIGHT
TZOFFSETFROM:-0500
TZOFFSETTO:-0400
TZNAME:EDT
DTSTART:20230312T070000
END:DAYLIGHT
BEGIN:STANDARD
TZOFFSETFROM:-0400
TZOFFSETTO:-0500
TZNAME:EST
DTSTART:20231105T060000
END:STANDARD
END:VTIMEZONE
BEGIN:VEVENT
DTSTART;TZID=America/New_York:20220108T160000
DTEND;TZID=America/New_York:20220108T160000
DTSTAMP:20260421T094545
CREATED:20211215T193059Z
LAST-MODIFIED:20211229T213437Z
UID:17182-1641657600-1641657600@cornwallct.org
SUMMARY:Artist Opening Reception: "Mutable" by Mark Wilson
DESCRIPTION:Proof of vaccination will be required and there will be no refreshments. Masks are required to enter the Library. \nLong-time West Cornwall resident and digital art pioneer\, Mark Wilson will exhibit pieces produced by jet ink on canvas at the Cornwall Library.  “Mutable” features work that is generated using Wilson’s software and printed with archival large format inkjet printers.  Using a variety of computer procedures\, the complex geometric images are progressively altered in form and color. \nMark’s show will be on view until February 20\, 2022.
URL:https://cornwallct.org/event/artist-opening-reception-mutable-by-mark-wilson/
LOCATION:The Cornwall Library\, 30 Pine St\, Cornwall\, CT\, 06753\, United States
ATTACH;FMTTYPE=image/jpeg:https://cornwallct.org/wp-content/uploads/2021/12/mark-wilson-3-web.jpg
ORGANIZER;CN="The Cornwall Library":MAILTO:director@cornwalllibrary.org
END:VEVENT
END:VCALENDAR