BEGIN:VCALENDAR
VERSION:2.0
PRODID:-//Cornwall CT - ECPv6.15.20//NONSGML v1.0//EN
CALSCALE:GREGORIAN
METHOD:PUBLISH
X-WR-CALNAME:Cornwall CT
X-ORIGINAL-URL:https://cornwallct.org
X-WR-CALDESC:Events for Cornwall CT
REFRESH-INTERVAL;VALUE=DURATION:PT1H
X-Robots-Tag:noindex
X-PUBLISHED-TTL:PT1H
BEGIN:VTIMEZONE
TZID:America/New_York
BEGIN:DAYLIGHT
TZOFFSETFROM:-0500
TZOFFSETTO:-0400
TZNAME:EDT
DTSTART:20200308T070000
END:DAYLIGHT
BEGIN:STANDARD
TZOFFSETFROM:-0400
TZOFFSETTO:-0500
TZNAME:EST
DTSTART:20201101T060000
END:STANDARD
BEGIN:DAYLIGHT
TZOFFSETFROM:-0500
TZOFFSETTO:-0400
TZNAME:EDT
DTSTART:20210314T070000
END:DAYLIGHT
BEGIN:STANDARD
TZOFFSETFROM:-0400
TZOFFSETTO:-0500
TZNAME:EST
DTSTART:20211107T060000
END:STANDARD
BEGIN:DAYLIGHT
TZOFFSETFROM:-0500
TZOFFSETTO:-0400
TZNAME:EDT
DTSTART:20220313T070000
END:DAYLIGHT
BEGIN:STANDARD
TZOFFSETFROM:-0400
TZOFFSETTO:-0500
TZNAME:EST
DTSTART:20221106T060000
END:STANDARD
BEGIN:DAYLIGHT
TZOFFSETFROM:-0500
TZOFFSETTO:-0400
TZNAME:EDT
DTSTART:20230312T070000
END:DAYLIGHT
BEGIN:STANDARD
TZOFFSETFROM:-0400
TZOFFSETTO:-0500
TZNAME:EST
DTSTART:20231105T060000
END:STANDARD
END:VTIMEZONE
BEGIN:VEVENT
DTSTART;VALUE=DATE:20211211
DTEND;VALUE=DATE:20220103
DTSTAMP:20260421T181552
CREATED:20211123T203005Z
LAST-MODIFIED:20211215T185752Z
UID:16942-1639180800-1641167999@cornwallct.org
SUMMARY:West Cornwall’s 12 Days of Christmas
DESCRIPTION:This season in West Cornwall Connecticut explore an all-new walkable outdoor art gallery inspired by 12 Days of Christmas!  Open for the second year with all new works of art by new and returning artists. \nThe sidewalks of picturesque West Cornwall transform into a walking art gallery as artists create unique interpretations of the timeless 12 Days of Christmas holiday rhyme.  Windows nestled throughout picturesque West Cornwall Village are all within easy walking distance of one another – no more than half an hour is needed to see all the windows and stop in local shops. Younger guests can collect stickers at each artist’s window and even get a prize if they collect all twelve! \nThe exhibition is open for exploration from Saturday\, December 11th until Sunday\, January 2nd.  Come at any time. Opening night festivities on December 11th\, from 4-6 pm \nExhibit maps\, sticker cards and prizes available at: \nThe Wish House \n413 Sharon-Goshen Turnpike\, West Cornwall\, CT 06796 \n(860) 672-2969 \nCovered Bridge Electric Bike \n421 Sharon-Goshen Turnpike\, West Cornwall\, CT 06796 \n(860) 248-3010 \nThree Guys Ski and Ride \n406 Sharon-Goshen Turnpike\, West Cornwall\, CT 06796 \n(860) 248-3281 \nThese three locally owned stores are great for Christmas gift shopping as well – with plenty of in-stock merchandise! \nThis year’s guest artists include: \nDanielle Mailer \nMichael Heming \nZejke and Iris Hermann \nJoy Setton \nRichard Griggs \nSally Van Doren \nEllen Moon \nRita Vitalis \nConstance Old \nCathrine De Neergaard \nApril Stewart Klausner \nChris Hanley’s 3rd Grade CCS art class \n 
URL:https://cornwallct.org/event/west-cornwalls-12-days-of-christmas/
LOCATION:West Cornwall\, Sharon Goshen Turnpike\, West Cornwall\, Connecticut\, 06796
ATTACH;FMTTYPE=image/jpeg:https://cornwallct.org/wp-content/uploads/2021/11/2021-CHRISTMAS-MAP-PROOFED-final-scaled.jpg
END:VEVENT
BEGIN:VEVENT
DTSTART;TZID=America/New_York:20211226T160000
DTEND;TZID=America/New_York:20211226T170000
DTSTAMP:20260421T181552
CREATED:20211113T201710Z
LAST-MODIFIED:20211221T205622Z
UID:16816-1640534400-1640538000@cornwallct.org
SUMMARY:Annual Boxing Day Reading - Zoom
DESCRIPTION:December 26\, 2021\, 4pm via Zoom \nThis year Tom Walker will read a selection from Vladimir Nabokov’s Speak\, Memory\, a delightful and superbly written account of his childhood and youth in pre-Revolutionary Russia. Registration is required. 
URL:https://cornwallct.org/event/annual-boxing-day-reading-north-cornwall-meeting-house/
LOCATION:Virtual
ATTACH;FMTTYPE=image/jpeg:https://cornwallct.org/wp-content/uploads/2021/11/2021-Boxing-Day-small-poster-zoom.jpg
ORGANIZER;CN="The Cornwall Library":MAILTO:director@cornwalllibrary.org
END:VEVENT
END:VCALENDAR