BEGIN:VCALENDAR
VERSION:2.0
PRODID:-//Cornwall CT - ECPv6.15.20//NONSGML v1.0//EN
CALSCALE:GREGORIAN
METHOD:PUBLISH
X-WR-CALNAME:Cornwall CT
X-ORIGINAL-URL:https://cornwallct.org
X-WR-CALDESC:Events for Cornwall CT
REFRESH-INTERVAL;VALUE=DURATION:PT1H
X-Robots-Tag:noindex
X-PUBLISHED-TTL:PT1H
BEGIN:VTIMEZONE
TZID:America/New_York
BEGIN:DAYLIGHT
TZOFFSETFROM:-0500
TZOFFSETTO:-0400
TZNAME:EDT
DTSTART:20200308T070000
END:DAYLIGHT
BEGIN:STANDARD
TZOFFSETFROM:-0400
TZOFFSETTO:-0500
TZNAME:EST
DTSTART:20201101T060000
END:STANDARD
BEGIN:DAYLIGHT
TZOFFSETFROM:-0500
TZOFFSETTO:-0400
TZNAME:EDT
DTSTART:20210314T070000
END:DAYLIGHT
BEGIN:STANDARD
TZOFFSETFROM:-0400
TZOFFSETTO:-0500
TZNAME:EST
DTSTART:20211107T060000
END:STANDARD
BEGIN:DAYLIGHT
TZOFFSETFROM:-0500
TZOFFSETTO:-0400
TZNAME:EDT
DTSTART:20220313T070000
END:DAYLIGHT
BEGIN:STANDARD
TZOFFSETFROM:-0400
TZOFFSETTO:-0500
TZNAME:EST
DTSTART:20221106T060000
END:STANDARD
END:VTIMEZONE
BEGIN:VEVENT
DTSTART;TZID=America/New_York:20211205T160000
DTEND;TZID=America/New_York:20211205T180000
DTSTAMP:20260419T163328
CREATED:20211113T201213Z
LAST-MODIFIED:20211113T201213Z
UID:16815-1638720000-1638727200@cornwallct.org
SUMMARY:Gingerbread House Competition and Tree Lighting - Library
DESCRIPTION:As a follow-up to the great turnout for the Carved Pumpkin Contest on Halloween\, the Library is going to host a Gingerbread House Competition and tree lighting at the library on Sunday\, December 5th at 4:00pm. There will be a children’s category and an adult category for judging\, with a prize for the winners. \nPlease register and indicate if you are entering a child or an adult participant.
URL:https://cornwallct.org/event/gingerbread-house-competition-and-tree-lighting-library/
LOCATION:The Cornwall Library\, 30 Pine St\, Cornwall\, CT\, 06753\, United States
ORGANIZER;CN="The Cornwall Library":MAILTO:director@cornwalllibrary.org
END:VEVENT
END:VCALENDAR