BEGIN:VCALENDAR
VERSION:2.0
PRODID:-//Cornwall CT - ECPv6.15.20//NONSGML v1.0//EN
CALSCALE:GREGORIAN
METHOD:PUBLISH
X-ORIGINAL-URL:https://cornwallct.org
X-WR-CALDESC:Events for Cornwall CT
REFRESH-INTERVAL;VALUE=DURATION:PT1H
X-Robots-Tag:noindex
X-PUBLISHED-TTL:PT1H
BEGIN:VTIMEZONE
TZID:America/New_York
BEGIN:DAYLIGHT
TZOFFSETFROM:-0500
TZOFFSETTO:-0400
TZNAME:EDT
DTSTART:20200308T070000
END:DAYLIGHT
BEGIN:STANDARD
TZOFFSETFROM:-0400
TZOFFSETTO:-0500
TZNAME:EST
DTSTART:20201101T060000
END:STANDARD
BEGIN:DAYLIGHT
TZOFFSETFROM:-0500
TZOFFSETTO:-0400
TZNAME:EDT
DTSTART:20210314T070000
END:DAYLIGHT
BEGIN:STANDARD
TZOFFSETFROM:-0400
TZOFFSETTO:-0500
TZNAME:EST
DTSTART:20211107T060000
END:STANDARD
BEGIN:DAYLIGHT
TZOFFSETFROM:-0500
TZOFFSETTO:-0400
TZNAME:EDT
DTSTART:20220313T070000
END:DAYLIGHT
BEGIN:STANDARD
TZOFFSETFROM:-0400
TZOFFSETTO:-0500
TZNAME:EST
DTSTART:20221106T060000
END:STANDARD
END:VTIMEZONE
BEGIN:VEVENT
DTSTART;TZID=America/New_York:20211201T103000
DTEND;TZID=America/New_York:20211201T113000
DTSTAMP:20260422T112511
CREATED:20211113T202033Z
LAST-MODIFIED:20211227T175410Z
UID:16817-1638354600-1638358200@cornwallct.org
SUMMARY:Children’s Story Time - Library
DESCRIPTION:Wednesdays at 10:30am \nJoin us for a half-hour program of some of our favorite stories\, songs\, and games. Following the half-hour\, stay on to make a small craft and enjoy the library space. Children’s Story Time is a wonderful opportunity to find a new favorite book and catch up with friends. All ages are welcome. \nPlease email CornwallLibraryYA@gmail.com to RSVP.
URL:https://cornwallct.org/event/childrens-story-time-library/2021-12-01/
LOCATION:The Cornwall Library\, 30 Pine St\, Cornwall\, CT\, 06753\, United States
ATTACH;FMTTYPE=image/jpeg:https://cornwallct.org/wp-content/uploads/2021/11/IMG-1259-childrens-story-time.jpg
ORGANIZER;CN="The Cornwall Library":MAILTO:director@cornwalllibrary.org
END:VEVENT
BEGIN:VEVENT
DTSTART;TZID=America/New_York:20211201T180000
DTEND;TZID=America/New_York:20211201T180000
DTSTAMP:20260422T112511
CREATED:20211016T142820Z
LAST-MODIFIED:20211016T142820Z
UID:16402-1638381600-1638381600@cornwallct.org
SUMMARY:Cornwall Library CIPA Public Meeting - Zoom
DESCRIPTION:The Children’s Internet Protection Act (CIPA) is a federal law enacted by Congress to address concerns about access to offensive content over the Internet on school and library computers. CIPA imposes certain types of requirements on any school or library that receives funding for Internet access or internal connections from the E-rate program – a program that makes certain communications technology more affordable for eligible schools and libraries. In early 2001\, the FCC issued rules implementing CIPA. The Cornwall Library has recently received funding for internet services and therefore must hold a public hearing on CIPA and the Library’s internet protection policy for children.   \nThe meeting will be held on Wednesday\, December 1\, 2021 at 6pm via Zoom.  Use this link to attend:  https://us02web.zoom.us/j/85889411208?pwd=aEk0UXRVdDFtVzE5dmZKM2gvWngzdz0.
URL:https://cornwallct.org/event/cornwall-library-cipa-public-meeting-zoom/
LOCATION:Virtual
ORGANIZER;CN="The Cornwall Library":MAILTO:director@cornwalllibrary.org
END:VEVENT
END:VCALENDAR