BEGIN:VCALENDAR
VERSION:2.0
PRODID:-//Cornwall CT - ECPv6.15.20//NONSGML v1.0//EN
CALSCALE:GREGORIAN
METHOD:PUBLISH
X-WR-CALNAME:Cornwall CT
X-ORIGINAL-URL:https://cornwallct.org
X-WR-CALDESC:Events for Cornwall CT
REFRESH-INTERVAL;VALUE=DURATION:PT1H
X-Robots-Tag:noindex
X-PUBLISHED-TTL:PT1H
BEGIN:VTIMEZONE
TZID:America/New_York
BEGIN:DAYLIGHT
TZOFFSETFROM:-0500
TZOFFSETTO:-0400
TZNAME:EDT
DTSTART:20220313T070000
END:DAYLIGHT
BEGIN:STANDARD
TZOFFSETFROM:-0400
TZOFFSETTO:-0500
TZNAME:EST
DTSTART:20221106T060000
END:STANDARD
BEGIN:DAYLIGHT
TZOFFSETFROM:-0500
TZOFFSETTO:-0400
TZNAME:EDT
DTSTART:20230312T070000
END:DAYLIGHT
BEGIN:STANDARD
TZOFFSETFROM:-0400
TZOFFSETTO:-0500
TZNAME:EST
DTSTART:20231105T060000
END:STANDARD
BEGIN:DAYLIGHT
TZOFFSETFROM:-0500
TZOFFSETTO:-0400
TZNAME:EDT
DTSTART:20240310T070000
END:DAYLIGHT
BEGIN:STANDARD
TZOFFSETFROM:-0400
TZOFFSETTO:-0500
TZNAME:EST
DTSTART:20241103T060000
END:STANDARD
END:VTIMEZONE
BEGIN:VEVENT
DTSTART;TZID=America/New_York:20230211T160000
DTEND;TZID=America/New_York:20230211T180000
DTSTAMP:20260423T034551
CREATED:20230110T191955Z
LAST-MODIFIED:20230110T191955Z
UID:21219-1676131200-1676138400@cornwallct.org
SUMMARY:Wine Tasting Fundraiser at the Souterrain Gallery
DESCRIPTION:Wine tasting fundraiser for the 8th grade at CCS for their annual school trip. \nThe event will be at the Souterrain Gallery at the Wish House Saturday\, February 11 from 4 to 6 PM. \nThe price is $30 per person or $50 per couple and all proceeds go to the 8th grade at CCS. \nTickets can be purchased by emailing Chris Jeans at chrisjeans@msn.com. \nSpace is limited\, so registering early will be essential.
URL:https://cornwallct.org/event/wine-tasting-fundraiser-at-the-souterrain-gallery/
LOCATION:The Souterrain Gallery\, 413 Sharon Goshen Turnpike\, West Cornwall\, CT\, 06796\, United States
ATTACH;FMTTYPE=image/jpeg:https://cornwallct.org/wp-content/uploads/2023/01/line-wine-bottles-wineglasses.jpg
END:VEVENT
END:VCALENDAR