BEGIN:VCALENDAR
VERSION:2.0
PRODID:-//Cornwall CT - ECPv6.15.20//NONSGML v1.0//EN
CALSCALE:GREGORIAN
METHOD:PUBLISH
X-ORIGINAL-URL:https://cornwallct.org
X-WR-CALDESC:Events for Cornwall CT
REFRESH-INTERVAL;VALUE=DURATION:PT1H
X-Robots-Tag:noindex
X-PUBLISHED-TTL:PT1H
BEGIN:VTIMEZONE
TZID:America/New_York
BEGIN:DAYLIGHT
TZOFFSETFROM:-0500
TZOFFSETTO:-0400
TZNAME:EDT
DTSTART:20230312T070000
END:DAYLIGHT
BEGIN:STANDARD
TZOFFSETFROM:-0400
TZOFFSETTO:-0500
TZNAME:EST
DTSTART:20231105T060000
END:STANDARD
BEGIN:DAYLIGHT
TZOFFSETFROM:-0500
TZOFFSETTO:-0400
TZNAME:EDT
DTSTART:20240310T070000
END:DAYLIGHT
BEGIN:STANDARD
TZOFFSETFROM:-0400
TZOFFSETTO:-0500
TZNAME:EST
DTSTART:20241103T060000
END:STANDARD
BEGIN:DAYLIGHT
TZOFFSETFROM:-0500
TZOFFSETTO:-0400
TZNAME:EDT
DTSTART:20250309T070000
END:DAYLIGHT
BEGIN:STANDARD
TZOFFSETFROM:-0400
TZOFFSETTO:-0500
TZNAME:EST
DTSTART:20251102T060000
END:STANDARD
END:VTIMEZONE
BEGIN:VEVENT
DTSTART;TZID=America/New_York:20241210T170000
DTEND;TZID=America/New_York:20241210T170000
DTSTAMP:20260419T115250
CREATED:20221216T153049Z
LAST-MODIFIED:20240905T193053Z
UID:25578-1733850000-1733850000@cornwallct.org
SUMMARY:Wastewater Management Project Special Meeting - Hybrid/Library
DESCRIPTION:Hybrid/Zoom at The Cornwall Library
URL:https://cornwallct.org/event/west-cornwall-septic-committee-2024-2024-09-10/2024-12-10/
LOCATION:Virtual
ATTACH;FMTTYPE=image/jpeg:https://cornwallct.org/wp-content/uploads/2020/12/West-Cornwall-Covered-Bridge-CT.jpg
END:VEVENT
BEGIN:VEVENT
DTSTART;TZID=America/New_York:20241112T170000
DTEND;TZID=America/New_York:20241112T170000
DTSTAMP:20260419T115250
CREATED:20221216T153049Z
LAST-MODIFIED:20240905T193052Z
UID:25577-1731430800-1731430800@cornwallct.org
SUMMARY:Wastewater Management Project Special Meeting - Hybrid/Library
DESCRIPTION:Hybrid/Zoom at The Cornwall Library
URL:https://cornwallct.org/event/west-cornwall-septic-committee-2024-2024-09-10/2024-11-12/
LOCATION:Virtual
ATTACH;FMTTYPE=image/jpeg:https://cornwallct.org/wp-content/uploads/2020/12/West-Cornwall-Covered-Bridge-CT.jpg
END:VEVENT
BEGIN:VEVENT
DTSTART;TZID=America/New_York:20241008T170000
DTEND;TZID=America/New_York:20241008T170000
DTSTAMP:20260419T115250
CREATED:20221216T153049Z
LAST-MODIFIED:20240905T193052Z
UID:25576-1728406800-1728406800@cornwallct.org
SUMMARY:Wastewater Management Project Special Meeting - Hybrid/Library
DESCRIPTION:Hybrid/Zoom at The Cornwall Library
URL:https://cornwallct.org/event/west-cornwall-septic-committee-2024-2024-09-10/2024-10-08/
LOCATION:Virtual
ATTACH;FMTTYPE=image/jpeg:https://cornwallct.org/wp-content/uploads/2020/12/West-Cornwall-Covered-Bridge-CT.jpg
END:VEVENT
BEGIN:VEVENT
DTSTART;TZID=America/New_York:20240910T170000
DTEND;TZID=America/New_York:20240910T170000
DTSTAMP:20260419T115250
CREATED:20221216T153049Z
LAST-MODIFIED:20240905T193051Z
UID:25575-1725987600-1725987600@cornwallct.org
SUMMARY:Wastewater Management Project Special Meeting - Hybrid/Library
DESCRIPTION:Hybrid/Zoom at The Cornwall Library
URL:https://cornwallct.org/event/west-cornwall-septic-committee-2024-2024-09-10/2024-09-10/
LOCATION:Virtual
ATTACH;FMTTYPE=image/jpeg:https://cornwallct.org/wp-content/uploads/2020/12/West-Cornwall-Covered-Bridge-CT.jpg
END:VEVENT
END:VCALENDAR