BEGIN:VCALENDAR
VERSION:2.0
PRODID:-//Cornwall CT - ECPv6.15.20//NONSGML v1.0//EN
CALSCALE:GREGORIAN
METHOD:PUBLISH
X-WR-CALNAME:Cornwall CT
X-ORIGINAL-URL:https://cornwallct.org
X-WR-CALDESC:Events for Cornwall CT
REFRESH-INTERVAL;VALUE=DURATION:PT1H
X-Robots-Tag:noindex
X-PUBLISHED-TTL:PT1H
BEGIN:VTIMEZONE
TZID:America/New_York
BEGIN:DAYLIGHT
TZOFFSETFROM:-0500
TZOFFSETTO:-0400
TZNAME:EDT
DTSTART:20240310T070000
END:DAYLIGHT
BEGIN:STANDARD
TZOFFSETFROM:-0400
TZOFFSETTO:-0500
TZNAME:EST
DTSTART:20241103T060000
END:STANDARD
BEGIN:DAYLIGHT
TZOFFSETFROM:-0500
TZOFFSETTO:-0400
TZNAME:EDT
DTSTART:20250309T070000
END:DAYLIGHT
BEGIN:STANDARD
TZOFFSETFROM:-0400
TZOFFSETTO:-0500
TZNAME:EST
DTSTART:20251102T060000
END:STANDARD
BEGIN:DAYLIGHT
TZOFFSETFROM:-0500
TZOFFSETTO:-0400
TZNAME:EDT
DTSTART:20260308T070000
END:DAYLIGHT
BEGIN:STANDARD
TZOFFSETFROM:-0400
TZOFFSETTO:-0500
TZNAME:EST
DTSTART:20261101T060000
END:STANDARD
END:VTIMEZONE
BEGIN:VEVENT
DTSTART;TZID=America/New_York:20250406T113000
DTEND;TZID=America/New_York:20250406T133000
DTSTAMP:20260421T132646
CREATED:20250216T160156Z
LAST-MODIFIED:20250216T160156Z
UID:30377-1743939000-1743946200@cornwallct.org
SUMMARY:"To Welcome Spring: A Show of Kinetic\, Textile and Graphic Arts" Opening Reception - UCC Parish House
DESCRIPTION:At the UCC Parish House\, “To Welcome Spring: A Show of Kinetic\, Textile and Graphic Arts” by Susan Hellmann and Richard Griggs\, April 6-May 15. \nThe Opening Reception will be on Sunday\, April 6\, 11:30 a.m. – 1:30 p.m. All are welcome! \nFor further information\, please call the church office\, 860-672-6840.
URL:https://cornwallct.org/event/to-welcome-spring-a-show-of-kinetic-textile-and-graphic-arts-opening-reception-ucc-parish-house/
LOCATION:UCC Parish House\, 8 Bolton Hill Road\, Cornwall\, CT\, 06753
END:VEVENT
END:VCALENDAR