BEGIN:VCALENDAR
VERSION:2.0
PRODID:-//Cornwall CT - ECPv6.15.20//NONSGML v1.0//EN
CALSCALE:GREGORIAN
METHOD:PUBLISH
X-WR-CALNAME:Cornwall CT
X-ORIGINAL-URL:https://cornwallct.org
X-WR-CALDESC:Events for Cornwall CT
REFRESH-INTERVAL;VALUE=DURATION:PT1H
X-Robots-Tag:noindex
X-PUBLISHED-TTL:PT1H
BEGIN:VTIMEZONE
TZID:America/New_York
BEGIN:DAYLIGHT
TZOFFSETFROM:-0500
TZOFFSETTO:-0400
TZNAME:EDT
DTSTART:20220313T070000
END:DAYLIGHT
BEGIN:STANDARD
TZOFFSETFROM:-0400
TZOFFSETTO:-0500
TZNAME:EST
DTSTART:20221106T060000
END:STANDARD
BEGIN:DAYLIGHT
TZOFFSETFROM:-0500
TZOFFSETTO:-0400
TZNAME:EDT
DTSTART:20230312T070000
END:DAYLIGHT
BEGIN:STANDARD
TZOFFSETFROM:-0400
TZOFFSETTO:-0500
TZNAME:EST
DTSTART:20231105T060000
END:STANDARD
BEGIN:DAYLIGHT
TZOFFSETFROM:-0500
TZOFFSETTO:-0400
TZNAME:EDT
DTSTART:20240310T070000
END:DAYLIGHT
BEGIN:STANDARD
TZOFFSETFROM:-0400
TZOFFSETTO:-0500
TZNAME:EST
DTSTART:20241103T060000
END:STANDARD
END:VTIMEZONE
BEGIN:VEVENT
DTSTART;TZID=America/New_York:20230107T100000
DTEND;TZID=America/New_York:20230107T113000
DTSTAMP:20260422T011740
CREATED:20221211T192353Z
LAST-MODIFIED:20221211T192353Z
UID:20896-1673085600-1673091000@cornwallct.org
SUMMARY:Sketchbook Workshop with Collette Hurst - Library
DESCRIPTION:Sketchbook Workshop with Collette Hurst:  January 7\, 14\, and 21\, 2023 from 10am until 11:30am.  Assemble a small sketchbook kit to practice drawing skills and create a daily visual art journal of people\, places\, and objects that capture your attention.   The class will include techniques using graphite pencil\, pen and ink\, and watercolor pencils.  Students of all levels welcome.  Supply list provided prior to class.  $75 for all three classes.  Maximum of 10 attendees.  Please register at Cornwalllibrary.org. 
URL:https://cornwallct.org/event/sketchbook-workshop-with-collette-hurst-library/2023-01-07/
LOCATION:The Cornwall Library\, 30 Pine St\, Cornwall\, CT\, 06753\, United States
ORGANIZER;CN="The Cornwall Library":MAILTO:director@cornwalllibrary.org
END:VEVENT
END:VCALENDAR