BEGIN:VCALENDAR
VERSION:2.0
PRODID:-//Cornwall CT - ECPv6.15.20//NONSGML v1.0//EN
CALSCALE:GREGORIAN
METHOD:PUBLISH
X-WR-CALNAME:Cornwall CT
X-ORIGINAL-URL:https://cornwallct.org
X-WR-CALDESC:Events for Cornwall CT
REFRESH-INTERVAL;VALUE=DURATION:PT1H
X-Robots-Tag:noindex
X-PUBLISHED-TTL:PT1H
BEGIN:VTIMEZONE
TZID:America/New_York
BEGIN:DAYLIGHT
TZOFFSETFROM:-0500
TZOFFSETTO:-0400
TZNAME:EDT
DTSTART:20240310T070000
END:DAYLIGHT
BEGIN:STANDARD
TZOFFSETFROM:-0400
TZOFFSETTO:-0500
TZNAME:EST
DTSTART:20241103T060000
END:STANDARD
BEGIN:DAYLIGHT
TZOFFSETFROM:-0500
TZOFFSETTO:-0400
TZNAME:EDT
DTSTART:20250309T070000
END:DAYLIGHT
BEGIN:STANDARD
TZOFFSETFROM:-0400
TZOFFSETTO:-0500
TZNAME:EST
DTSTART:20251102T060000
END:STANDARD
BEGIN:DAYLIGHT
TZOFFSETFROM:-0500
TZOFFSETTO:-0400
TZNAME:EDT
DTSTART:20260308T070000
END:DAYLIGHT
BEGIN:STANDARD
TZOFFSETFROM:-0400
TZOFFSETTO:-0500
TZNAME:EST
DTSTART:20261101T060000
END:STANDARD
END:VTIMEZONE
BEGIN:VEVENT
DTSTART;TZID=America/New_York:20250125T110000
DTEND;TZID=America/New_York:20250125T120000
DTSTAMP:20260421T195154
CREATED:20241216T165717Z
LAST-MODIFIED:20241216T165717Z
UID:29887-1737802800-1737806400@cornwallct.org
SUMMARY:Rattlesnake Preserve Tour
DESCRIPTION:On Saturday\, January 25 at 11 am there will be a tour of the Rattlesnake Preserve\, led by Terry Burke and Deb Bennett\, starting at the new observation platform at the south entrance. Come see what the season offers as we sleuth flora and fauna for winter activity. Please check our website for updates as to changes or equipment requirements\, www.cornwallconservationtrust.org.
URL:https://cornwallct.org/event/rattlesnake-preserve-tour/
LOCATION:Rattlesnake Preserve\, 12 Rattlesnake Road\, West Cornwall\, CT\, 06796\, United States
END:VEVENT
END:VCALENDAR