BEGIN:VCALENDAR
VERSION:2.0
PRODID:-//Cornwall CT - ECPv6.15.20//NONSGML v1.0//EN
CALSCALE:GREGORIAN
METHOD:PUBLISH
X-WR-CALNAME:Cornwall CT
X-ORIGINAL-URL:https://cornwallct.org
X-WR-CALDESC:Events for Cornwall CT
REFRESH-INTERVAL;VALUE=DURATION:PT1H
X-Robots-Tag:noindex
X-PUBLISHED-TTL:PT1H
BEGIN:VTIMEZONE
TZID:America/New_York
BEGIN:DAYLIGHT
TZOFFSETFROM:-0500
TZOFFSETTO:-0400
TZNAME:EDT
DTSTART:20220313T070000
END:DAYLIGHT
BEGIN:STANDARD
TZOFFSETFROM:-0400
TZOFFSETTO:-0500
TZNAME:EST
DTSTART:20221106T060000
END:STANDARD
BEGIN:DAYLIGHT
TZOFFSETFROM:-0500
TZOFFSETTO:-0400
TZNAME:EDT
DTSTART:20230312T070000
END:DAYLIGHT
BEGIN:STANDARD
TZOFFSETFROM:-0400
TZOFFSETTO:-0500
TZNAME:EST
DTSTART:20231105T060000
END:STANDARD
BEGIN:DAYLIGHT
TZOFFSETFROM:-0500
TZOFFSETTO:-0400
TZNAME:EDT
DTSTART:20240310T070000
END:DAYLIGHT
BEGIN:STANDARD
TZOFFSETFROM:-0400
TZOFFSETTO:-0500
TZNAME:EST
DTSTART:20241103T060000
END:STANDARD
END:VTIMEZONE
BEGIN:VEVENT
DTSTART;TZID=America/New_York:20231215T170000
DTEND;TZID=America/New_York:20231215T200000
DTSTAMP:20260422T105359
CREATED:20231212T182846Z
LAST-MODIFIED:20231212T182916Z
UID:25292-1702659600-1702670400@cornwallct.org
SUMMARY:Pasta Dinner with Santa & The Grinch
DESCRIPTION:Dinner\, Crafts\, Cookie Decorating\, and Gift Basket Silent Auction \nSanta vs. The Grinch\nBasketball Game \nSuggested Donation $5/person\nProceeds benefit the CCS 8th grade class trip \nPlease donate canned food items or arts/craft supplies to help fill Santa and the Grinch’s bags. \nLocation-Cornwall ConsolidatedSchool\nAll children 14 & under must be accompanied by an adult. \n 
URL:https://cornwallct.org/event/pasta-dinner-with-santa-the-grinch/
LOCATION:Cornwall Consolidated School\, 5 Cream Hill Road\, West Cornwall\, CT\, 06796
ORGANIZER;CN="Cornwall Park & Rec":MAILTO:prcornwall@gmail.com
END:VEVENT
END:VCALENDAR