BEGIN:VCALENDAR
VERSION:2.0
PRODID:-//Cornwall CT - ECPv6.15.20//NONSGML v1.0//EN
CALSCALE:GREGORIAN
METHOD:PUBLISH
X-WR-CALNAME:Cornwall CT
X-ORIGINAL-URL:https://cornwallct.org
X-WR-CALDESC:Events for Cornwall CT
REFRESH-INTERVAL;VALUE=DURATION:PT1H
X-Robots-Tag:noindex
X-PUBLISHED-TTL:PT1H
BEGIN:VTIMEZONE
TZID:America/New_York
BEGIN:DAYLIGHT
TZOFFSETFROM:-0500
TZOFFSETTO:-0400
TZNAME:EDT
DTSTART:20230312T070000
END:DAYLIGHT
BEGIN:STANDARD
TZOFFSETFROM:-0400
TZOFFSETTO:-0500
TZNAME:EST
DTSTART:20231105T060000
END:STANDARD
BEGIN:DAYLIGHT
TZOFFSETFROM:-0500
TZOFFSETTO:-0400
TZNAME:EDT
DTSTART:20240310T070000
END:DAYLIGHT
BEGIN:STANDARD
TZOFFSETFROM:-0400
TZOFFSETTO:-0500
TZNAME:EST
DTSTART:20241103T060000
END:STANDARD
BEGIN:DAYLIGHT
TZOFFSETFROM:-0500
TZOFFSETTO:-0400
TZNAME:EDT
DTSTART:20250309T070000
END:DAYLIGHT
BEGIN:STANDARD
TZOFFSETFROM:-0400
TZOFFSETTO:-0500
TZNAME:EST
DTSTART:20251102T060000
END:STANDARD
END:VTIMEZONE
BEGIN:VEVENT
DTSTART;TZID=America/New_York:20241110T113000
DTEND;TZID=America/New_York:20241110T133000
DTSTAMP:20260421T221005
CREATED:20241003T145421Z
LAST-MODIFIED:20241003T145421Z
UID:29104-1731238200-1731245400@cornwallct.org
SUMMARY:Opening Reception: "Thugs and Mugs" by Steve O'Neil - UCC Parish House
DESCRIPTION:The UCC will host a reception for “Thugs and Mugs”\, a collection of photographs of Cornwall people taken at the Transfer Station\, over a period of ten years by Steve O’Neil (AKA the Dump Guy.) Sunday\, November 10th from 11:30 am to 1:30 pm in the Parish House. Refreshments served. Come one\, come all…..maybe you’ll find yourself! The show will run through December 1st and may be viewed Monday through Thursday from 9am to noon\, Sundays from 11am to noon and by appointment with the artist. For further information\, please call the church office at 860-672-6840.
URL:https://cornwallct.org/event/opening-reception-thugs-and-mugs-by-steve-oneil-ucc-parish-house/
LOCATION:UCC Parish House\, 8 Bolton Hill Road\, Cornwall\, CT\, 06753
END:VEVENT
END:VCALENDAR