BEGIN:VCALENDAR
VERSION:2.0
PRODID:-//Cornwall CT - ECPv6.15.20//NONSGML v1.0//EN
CALSCALE:GREGORIAN
METHOD:PUBLISH
X-WR-CALNAME:Cornwall CT
X-ORIGINAL-URL:https://cornwallct.org
X-WR-CALDESC:Events for Cornwall CT
REFRESH-INTERVAL;VALUE=DURATION:PT1H
X-Robots-Tag:noindex
X-PUBLISHED-TTL:PT1H
BEGIN:VTIMEZONE
TZID:America/New_York
BEGIN:DAYLIGHT
TZOFFSETFROM:-0500
TZOFFSETTO:-0400
TZNAME:EDT
DTSTART:20210314T070000
END:DAYLIGHT
BEGIN:STANDARD
TZOFFSETFROM:-0400
TZOFFSETTO:-0500
TZNAME:EST
DTSTART:20211107T060000
END:STANDARD
BEGIN:DAYLIGHT
TZOFFSETFROM:-0500
TZOFFSETTO:-0400
TZNAME:EDT
DTSTART:20220313T070000
END:DAYLIGHT
BEGIN:STANDARD
TZOFFSETFROM:-0400
TZOFFSETTO:-0500
TZNAME:EST
DTSTART:20221106T060000
END:STANDARD
BEGIN:DAYLIGHT
TZOFFSETFROM:-0500
TZOFFSETTO:-0400
TZNAME:EDT
DTSTART:20230312T070000
END:DAYLIGHT
BEGIN:STANDARD
TZOFFSETFROM:-0400
TZOFFSETTO:-0500
TZNAME:EST
DTSTART:20231105T060000
END:STANDARD
END:VTIMEZONE
BEGIN:VEVENT
DTSTART;TZID=America/New_York:20220528T150000
DTEND;TZID=America/New_York:20220528T180000
DTSTAMP:20260421T054211
CREATED:20220416T120521Z
LAST-MODIFIED:20220429T125125Z
UID:18236-1653750000-1653760800@cornwallct.org
SUMMARY:Opening Reception - "SAMPLER" - Souterrain Gallery
DESCRIPTION:The Souterrain Gallery will host its first of the Season Opening Reception on Saturday\, May 28 from  3-6 pm for a group of young artists. \nS A M P L E R\n​Bound by an interest in craft and materiality\, seven artists explore drawing with alternative techniques. The ceramic sculptures of Sam Berenfield harken a nostalgia for childhood that is challenged by the expressive quilts and drawings of Noah Pica\, whose work evokes an unflinching humor and sensuality that confront the viewer with color and form. Beautifully sensitive drawings by Krista Young respond to the frenetic and ornate patchwork quilt of Emma Redmond. Elizabeth Schweizer and Stefan Sehringer converse through weaving: material dances in the works of Sehringer\, while Schweizer’s surreal images develop through the shifting of color and pattern. Cassie Sheedy intertwines two and three dimensions with multimedia wall reliefs in wood and on paper. Together the artists grapple with the anxiety of being young during uncertain times\, of finding and forging a place to call their own.  \nJazz by Carol Leven and Nick Moran \nAll are welcome!
URL:https://cornwallct.org/event/opening-reception-sampler-souterrain-gallery/
LOCATION:The Souterrain Gallery\, 413 Sharon Goshen Turnpike\, West Cornwall\, CT\, 06796\, United States
ATTACH;FMTTYPE=image/jpeg:https://cornwallct.org/wp-content/uploads/2022/04/Sampler-poster-souterrain-poster-2-scaled.jpg
ORGANIZER;CN="The Souterrain Gallery":MAILTO:wishhouse@optonline.net
END:VEVENT
END:VCALENDAR