BEGIN:VCALENDAR
VERSION:2.0
PRODID:-//Cornwall CT - ECPv6.15.20//NONSGML v1.0//EN
CALSCALE:GREGORIAN
METHOD:PUBLISH
X-WR-CALNAME:Cornwall CT
X-ORIGINAL-URL:https://cornwallct.org
X-WR-CALDESC:Events for Cornwall CT
REFRESH-INTERVAL;VALUE=DURATION:PT1H
X-Robots-Tag:noindex
X-PUBLISHED-TTL:PT1H
BEGIN:VTIMEZONE
TZID:America/New_York
BEGIN:DAYLIGHT
TZOFFSETFROM:-0500
TZOFFSETTO:-0400
TZNAME:EDT
DTSTART:20220313T070000
END:DAYLIGHT
BEGIN:STANDARD
TZOFFSETFROM:-0400
TZOFFSETTO:-0500
TZNAME:EST
DTSTART:20221106T060000
END:STANDARD
BEGIN:DAYLIGHT
TZOFFSETFROM:-0500
TZOFFSETTO:-0400
TZNAME:EDT
DTSTART:20230312T070000
END:DAYLIGHT
BEGIN:STANDARD
TZOFFSETFROM:-0400
TZOFFSETTO:-0500
TZNAME:EST
DTSTART:20231105T060000
END:STANDARD
BEGIN:DAYLIGHT
TZOFFSETFROM:-0500
TZOFFSETTO:-0400
TZNAME:EDT
DTSTART:20240310T070000
END:DAYLIGHT
BEGIN:STANDARD
TZOFFSETFROM:-0400
TZOFFSETTO:-0500
TZNAME:EST
DTSTART:20241103T060000
END:STANDARD
END:VTIMEZONE
BEGIN:VEVENT
DTSTART;TZID=America/New_York:20231007T160000
DTEND;TZID=America/New_York:20231007T190000
DTSTAMP:20260420T132047
CREATED:20231003T195709Z
LAST-MODIFIED:20231003T195709Z
UID:24273-1696694400-1696705200@cornwallct.org
SUMMARY:Opening Reception: Relational Mechanics by Béla Selendy
DESCRIPTION:Relational Mechanics\nNew works by Béla Selendy\nOpening reception Saturday October 7\, 4-7 pm\, at Ian Ingersoll\, 422 Sharon-Goshen Tpke\, West Cornwall \nAbstract compositions assembled using wood elements sourced from the Ian Ingersoll workshop. \nEach work is derived from 50-70 long-exposure light-painted photographs combined to a single entity that captures the intricate relationships of light\, shadow and form to create a unique observation of an ephemeral sculpture\, itself decomposed moments after capture\, evoking elements of time\, space\, depth\, being and unbeing.
URL:https://cornwallct.org/event/opening-reception-relational-mechanics-by-bela-selendy/
LOCATION:Ian Ingersoll Cabinetmakers\, 422 Sharon Goshen Turnpike\, West Cornwall\, CT\, 06796
ATTACH;FMTTYPE=image/jpeg:https://cornwallct.org/wp-content/uploads/2023/10/483A8615-CR2_DxO_DeepPRIME-Edit-selendy-scaled.jpg
END:VEVENT
END:VCALENDAR