BEGIN:VCALENDAR
VERSION:2.0
PRODID:-//Cornwall CT - ECPv6.15.20//NONSGML v1.0//EN
CALSCALE:GREGORIAN
METHOD:PUBLISH
X-ORIGINAL-URL:https://cornwallct.org
X-WR-CALDESC:Events for Cornwall CT
REFRESH-INTERVAL;VALUE=DURATION:PT1H
X-Robots-Tag:noindex
X-PUBLISHED-TTL:PT1H
BEGIN:VTIMEZONE
TZID:America/New_York
BEGIN:DAYLIGHT
TZOFFSETFROM:-0500
TZOFFSETTO:-0400
TZNAME:EDT
DTSTART:20230312T070000
END:DAYLIGHT
BEGIN:STANDARD
TZOFFSETFROM:-0400
TZOFFSETTO:-0500
TZNAME:EST
DTSTART:20231105T060000
END:STANDARD
BEGIN:DAYLIGHT
TZOFFSETFROM:-0500
TZOFFSETTO:-0400
TZNAME:EDT
DTSTART:20240310T070000
END:DAYLIGHT
BEGIN:STANDARD
TZOFFSETFROM:-0400
TZOFFSETTO:-0500
TZNAME:EST
DTSTART:20241103T060000
END:STANDARD
BEGIN:DAYLIGHT
TZOFFSETFROM:-0500
TZOFFSETTO:-0400
TZNAME:EDT
DTSTART:20250309T070000
END:DAYLIGHT
BEGIN:STANDARD
TZOFFSETFROM:-0400
TZOFFSETTO:-0500
TZNAME:EST
DTSTART:20251102T060000
END:STANDARD
END:VTIMEZONE
BEGIN:VEVENT
DTSTART;VALUE=DATE:20240531
DTEND;VALUE=DATE:20240601
DTSTAMP:20260422T141249
CREATED:20240415T194951Z
LAST-MODIFIED:20240415T194951Z
UID:26960-1717113600-1717199999@cornwallct.org
SUMMARY:NO MOW MAY
DESCRIPTION:NO MOW MAY:Join a national campaign to let lawns grow in May to support bees and other pollinators who are a critical part of the food-web for birds and other wildlife\, which in turn bolsters biodiversity and environmental health. Partial lawns help too. If someone mows for you\, consider paying as usual or tipping them to maintain their income. Search: No Mow May or Bee City USA for more information.
URL:https://cornwallct.org/event/no-mow-may/2024-05-31/
END:VEVENT
BEGIN:VEVENT
DTSTART;VALUE=DATE:20240530
DTEND;VALUE=DATE:20240531
DTSTAMP:20260422T141249
CREATED:20240415T194951Z
LAST-MODIFIED:20240415T194951Z
UID:26959-1717027200-1717113599@cornwallct.org
SUMMARY:NO MOW MAY
DESCRIPTION:NO MOW MAY:Join a national campaign to let lawns grow in May to support bees and other pollinators who are a critical part of the food-web for birds and other wildlife\, which in turn bolsters biodiversity and environmental health. Partial lawns help too. If someone mows for you\, consider paying as usual or tipping them to maintain their income. Search: No Mow May or Bee City USA for more information.
URL:https://cornwallct.org/event/no-mow-may/2024-05-30/
END:VEVENT
BEGIN:VEVENT
DTSTART;VALUE=DATE:20240529
DTEND;VALUE=DATE:20240530
DTSTAMP:20260422T141249
CREATED:20240415T194951Z
LAST-MODIFIED:20240415T194951Z
UID:26958-1716940800-1717027199@cornwallct.org
SUMMARY:NO MOW MAY
DESCRIPTION:NO MOW MAY:Join a national campaign to let lawns grow in May to support bees and other pollinators who are a critical part of the food-web for birds and other wildlife\, which in turn bolsters biodiversity and environmental health. Partial lawns help too. If someone mows for you\, consider paying as usual or tipping them to maintain their income. Search: No Mow May or Bee City USA for more information.
URL:https://cornwallct.org/event/no-mow-may/2024-05-29/
END:VEVENT
BEGIN:VEVENT
DTSTART;VALUE=DATE:20240528
DTEND;VALUE=DATE:20240529
DTSTAMP:20260422T141249
CREATED:20240415T194951Z
LAST-MODIFIED:20240415T194951Z
UID:26957-1716854400-1716940799@cornwallct.org
SUMMARY:NO MOW MAY
DESCRIPTION:NO MOW MAY:Join a national campaign to let lawns grow in May to support bees and other pollinators who are a critical part of the food-web for birds and other wildlife\, which in turn bolsters biodiversity and environmental health. Partial lawns help too. If someone mows for you\, consider paying as usual or tipping them to maintain their income. Search: No Mow May or Bee City USA for more information.
URL:https://cornwallct.org/event/no-mow-may/2024-05-28/
END:VEVENT
BEGIN:VEVENT
DTSTART;VALUE=DATE:20240527
DTEND;VALUE=DATE:20240528
DTSTAMP:20260422T141249
CREATED:20240415T194951Z
LAST-MODIFIED:20240415T194951Z
UID:26956-1716768000-1716854399@cornwallct.org
SUMMARY:NO MOW MAY
DESCRIPTION:NO MOW MAY:Join a national campaign to let lawns grow in May to support bees and other pollinators who are a critical part of the food-web for birds and other wildlife\, which in turn bolsters biodiversity and environmental health. Partial lawns help too. If someone mows for you\, consider paying as usual or tipping them to maintain their income. Search: No Mow May or Bee City USA for more information.
URL:https://cornwallct.org/event/no-mow-may/2024-05-27/
END:VEVENT
BEGIN:VEVENT
DTSTART;VALUE=DATE:20240526
DTEND;VALUE=DATE:20240527
DTSTAMP:20260422T141249
CREATED:20240415T194951Z
LAST-MODIFIED:20240415T194951Z
UID:26955-1716681600-1716767999@cornwallct.org
SUMMARY:NO MOW MAY
DESCRIPTION:NO MOW MAY:Join a national campaign to let lawns grow in May to support bees and other pollinators who are a critical part of the food-web for birds and other wildlife\, which in turn bolsters biodiversity and environmental health. Partial lawns help too. If someone mows for you\, consider paying as usual or tipping them to maintain their income. Search: No Mow May or Bee City USA for more information.
URL:https://cornwallct.org/event/no-mow-may/2024-05-26/
END:VEVENT
BEGIN:VEVENT
DTSTART;VALUE=DATE:20240525
DTEND;VALUE=DATE:20240526
DTSTAMP:20260422T141249
CREATED:20240415T194951Z
LAST-MODIFIED:20240415T194951Z
UID:26954-1716595200-1716681599@cornwallct.org
SUMMARY:NO MOW MAY
DESCRIPTION:NO MOW MAY:Join a national campaign to let lawns grow in May to support bees and other pollinators who are a critical part of the food-web for birds and other wildlife\, which in turn bolsters biodiversity and environmental health. Partial lawns help too. If someone mows for you\, consider paying as usual or tipping them to maintain their income. Search: No Mow May or Bee City USA for more information.
URL:https://cornwallct.org/event/no-mow-may/2024-05-25/
END:VEVENT
BEGIN:VEVENT
DTSTART;VALUE=DATE:20240524
DTEND;VALUE=DATE:20240525
DTSTAMP:20260422T141249
CREATED:20240415T194951Z
LAST-MODIFIED:20240415T194951Z
UID:26953-1716508800-1716595199@cornwallct.org
SUMMARY:NO MOW MAY
DESCRIPTION:NO MOW MAY:Join a national campaign to let lawns grow in May to support bees and other pollinators who are a critical part of the food-web for birds and other wildlife\, which in turn bolsters biodiversity and environmental health. Partial lawns help too. If someone mows for you\, consider paying as usual or tipping them to maintain their income. Search: No Mow May or Bee City USA for more information.
URL:https://cornwallct.org/event/no-mow-may/2024-05-24/
END:VEVENT
BEGIN:VEVENT
DTSTART;VALUE=DATE:20240523
DTEND;VALUE=DATE:20240524
DTSTAMP:20260422T141249
CREATED:20240415T194951Z
LAST-MODIFIED:20240415T194951Z
UID:26952-1716422400-1716508799@cornwallct.org
SUMMARY:NO MOW MAY
DESCRIPTION:NO MOW MAY:Join a national campaign to let lawns grow in May to support bees and other pollinators who are a critical part of the food-web for birds and other wildlife\, which in turn bolsters biodiversity and environmental health. Partial lawns help too. If someone mows for you\, consider paying as usual or tipping them to maintain their income. Search: No Mow May or Bee City USA for more information.
URL:https://cornwallct.org/event/no-mow-may/2024-05-23/
END:VEVENT
BEGIN:VEVENT
DTSTART;VALUE=DATE:20240522
DTEND;VALUE=DATE:20240523
DTSTAMP:20260422T141249
CREATED:20240415T194951Z
LAST-MODIFIED:20240415T194951Z
UID:26951-1716336000-1716422399@cornwallct.org
SUMMARY:NO MOW MAY
DESCRIPTION:NO MOW MAY:Join a national campaign to let lawns grow in May to support bees and other pollinators who are a critical part of the food-web for birds and other wildlife\, which in turn bolsters biodiversity and environmental health. Partial lawns help too. If someone mows for you\, consider paying as usual or tipping them to maintain their income. Search: No Mow May or Bee City USA for more information.
URL:https://cornwallct.org/event/no-mow-may/2024-05-22/
END:VEVENT
BEGIN:VEVENT
DTSTART;VALUE=DATE:20240521
DTEND;VALUE=DATE:20240522
DTSTAMP:20260422T141249
CREATED:20240415T194951Z
LAST-MODIFIED:20240415T194951Z
UID:26950-1716249600-1716335999@cornwallct.org
SUMMARY:NO MOW MAY
DESCRIPTION:NO MOW MAY:Join a national campaign to let lawns grow in May to support bees and other pollinators who are a critical part of the food-web for birds and other wildlife\, which in turn bolsters biodiversity and environmental health. Partial lawns help too. If someone mows for you\, consider paying as usual or tipping them to maintain their income. Search: No Mow May or Bee City USA for more information.
URL:https://cornwallct.org/event/no-mow-may/2024-05-21/
END:VEVENT
BEGIN:VEVENT
DTSTART;VALUE=DATE:20240520
DTEND;VALUE=DATE:20240521
DTSTAMP:20260422T141249
CREATED:20240415T194951Z
LAST-MODIFIED:20240415T194951Z
UID:26949-1716163200-1716249599@cornwallct.org
SUMMARY:NO MOW MAY
DESCRIPTION:NO MOW MAY:Join a national campaign to let lawns grow in May to support bees and other pollinators who are a critical part of the food-web for birds and other wildlife\, which in turn bolsters biodiversity and environmental health. Partial lawns help too. If someone mows for you\, consider paying as usual or tipping them to maintain their income. Search: No Mow May or Bee City USA for more information.
URL:https://cornwallct.org/event/no-mow-may/2024-05-20/
END:VEVENT
BEGIN:VEVENT
DTSTART;VALUE=DATE:20240519
DTEND;VALUE=DATE:20240520
DTSTAMP:20260422T141249
CREATED:20240415T194951Z
LAST-MODIFIED:20240415T194951Z
UID:26948-1716076800-1716163199@cornwallct.org
SUMMARY:NO MOW MAY
DESCRIPTION:NO MOW MAY:Join a national campaign to let lawns grow in May to support bees and other pollinators who are a critical part of the food-web for birds and other wildlife\, which in turn bolsters biodiversity and environmental health. Partial lawns help too. If someone mows for you\, consider paying as usual or tipping them to maintain their income. Search: No Mow May or Bee City USA for more information.
URL:https://cornwallct.org/event/no-mow-may/2024-05-19/
END:VEVENT
BEGIN:VEVENT
DTSTART;VALUE=DATE:20240518
DTEND;VALUE=DATE:20240519
DTSTAMP:20260422T141249
CREATED:20240415T194951Z
LAST-MODIFIED:20240415T194951Z
UID:26947-1715990400-1716076799@cornwallct.org
SUMMARY:NO MOW MAY
DESCRIPTION:NO MOW MAY:Join a national campaign to let lawns grow in May to support bees and other pollinators who are a critical part of the food-web for birds and other wildlife\, which in turn bolsters biodiversity and environmental health. Partial lawns help too. If someone mows for you\, consider paying as usual or tipping them to maintain their income. Search: No Mow May or Bee City USA for more information.
URL:https://cornwallct.org/event/no-mow-may/2024-05-18/
END:VEVENT
BEGIN:VEVENT
DTSTART;VALUE=DATE:20240517
DTEND;VALUE=DATE:20240518
DTSTAMP:20260422T141249
CREATED:20240415T194951Z
LAST-MODIFIED:20240415T194951Z
UID:26946-1715904000-1715990399@cornwallct.org
SUMMARY:NO MOW MAY
DESCRIPTION:NO MOW MAY:Join a national campaign to let lawns grow in May to support bees and other pollinators who are a critical part of the food-web for birds and other wildlife\, which in turn bolsters biodiversity and environmental health. Partial lawns help too. If someone mows for you\, consider paying as usual or tipping them to maintain their income. Search: No Mow May or Bee City USA for more information.
URL:https://cornwallct.org/event/no-mow-may/2024-05-17/
END:VEVENT
BEGIN:VEVENT
DTSTART;VALUE=DATE:20240516
DTEND;VALUE=DATE:20240517
DTSTAMP:20260422T141249
CREATED:20240415T194951Z
LAST-MODIFIED:20240415T194951Z
UID:26945-1715817600-1715903999@cornwallct.org
SUMMARY:NO MOW MAY
DESCRIPTION:NO MOW MAY:Join a national campaign to let lawns grow in May to support bees and other pollinators who are a critical part of the food-web for birds and other wildlife\, which in turn bolsters biodiversity and environmental health. Partial lawns help too. If someone mows for you\, consider paying as usual or tipping them to maintain their income. Search: No Mow May or Bee City USA for more information.
URL:https://cornwallct.org/event/no-mow-may/2024-05-16/
END:VEVENT
BEGIN:VEVENT
DTSTART;VALUE=DATE:20240515
DTEND;VALUE=DATE:20240516
DTSTAMP:20260422T141249
CREATED:20240415T194951Z
LAST-MODIFIED:20240415T194951Z
UID:26944-1715731200-1715817599@cornwallct.org
SUMMARY:NO MOW MAY
DESCRIPTION:NO MOW MAY:Join a national campaign to let lawns grow in May to support bees and other pollinators who are a critical part of the food-web for birds and other wildlife\, which in turn bolsters biodiversity and environmental health. Partial lawns help too. If someone mows for you\, consider paying as usual or tipping them to maintain their income. Search: No Mow May or Bee City USA for more information.
URL:https://cornwallct.org/event/no-mow-may/2024-05-15/
END:VEVENT
BEGIN:VEVENT
DTSTART;VALUE=DATE:20240514
DTEND;VALUE=DATE:20240515
DTSTAMP:20260422T141249
CREATED:20240415T194951Z
LAST-MODIFIED:20240415T194951Z
UID:26943-1715644800-1715731199@cornwallct.org
SUMMARY:NO MOW MAY
DESCRIPTION:NO MOW MAY:Join a national campaign to let lawns grow in May to support bees and other pollinators who are a critical part of the food-web for birds and other wildlife\, which in turn bolsters biodiversity and environmental health. Partial lawns help too. If someone mows for you\, consider paying as usual or tipping them to maintain their income. Search: No Mow May or Bee City USA for more information.
URL:https://cornwallct.org/event/no-mow-may/2024-05-14/
END:VEVENT
BEGIN:VEVENT
DTSTART;VALUE=DATE:20240513
DTEND;VALUE=DATE:20240514
DTSTAMP:20260422T141249
CREATED:20240415T194951Z
LAST-MODIFIED:20240415T194951Z
UID:26942-1715558400-1715644799@cornwallct.org
SUMMARY:NO MOW MAY
DESCRIPTION:NO MOW MAY:Join a national campaign to let lawns grow in May to support bees and other pollinators who are a critical part of the food-web for birds and other wildlife\, which in turn bolsters biodiversity and environmental health. Partial lawns help too. If someone mows for you\, consider paying as usual or tipping them to maintain their income. Search: No Mow May or Bee City USA for more information.
URL:https://cornwallct.org/event/no-mow-may/2024-05-13/
END:VEVENT
BEGIN:VEVENT
DTSTART;VALUE=DATE:20240512
DTEND;VALUE=DATE:20240513
DTSTAMP:20260422T141249
CREATED:20240415T194951Z
LAST-MODIFIED:20240415T194951Z
UID:26941-1715472000-1715558399@cornwallct.org
SUMMARY:NO MOW MAY
DESCRIPTION:NO MOW MAY:Join a national campaign to let lawns grow in May to support bees and other pollinators who are a critical part of the food-web for birds and other wildlife\, which in turn bolsters biodiversity and environmental health. Partial lawns help too. If someone mows for you\, consider paying as usual or tipping them to maintain their income. Search: No Mow May or Bee City USA for more information.
URL:https://cornwallct.org/event/no-mow-may/2024-05-12/
END:VEVENT
BEGIN:VEVENT
DTSTART;VALUE=DATE:20240511
DTEND;VALUE=DATE:20240512
DTSTAMP:20260422T141249
CREATED:20240415T194951Z
LAST-MODIFIED:20240415T194951Z
UID:26940-1715385600-1715471999@cornwallct.org
SUMMARY:NO MOW MAY
DESCRIPTION:NO MOW MAY:Join a national campaign to let lawns grow in May to support bees and other pollinators who are a critical part of the food-web for birds and other wildlife\, which in turn bolsters biodiversity and environmental health. Partial lawns help too. If someone mows for you\, consider paying as usual or tipping them to maintain their income. Search: No Mow May or Bee City USA for more information.
URL:https://cornwallct.org/event/no-mow-may/2024-05-11/
END:VEVENT
BEGIN:VEVENT
DTSTART;VALUE=DATE:20240510
DTEND;VALUE=DATE:20240511
DTSTAMP:20260422T141249
CREATED:20240415T194951Z
LAST-MODIFIED:20240415T194951Z
UID:26939-1715299200-1715385599@cornwallct.org
SUMMARY:NO MOW MAY
DESCRIPTION:NO MOW MAY:Join a national campaign to let lawns grow in May to support bees and other pollinators who are a critical part of the food-web for birds and other wildlife\, which in turn bolsters biodiversity and environmental health. Partial lawns help too. If someone mows for you\, consider paying as usual or tipping them to maintain their income. Search: No Mow May or Bee City USA for more information.
URL:https://cornwallct.org/event/no-mow-may/2024-05-10/
END:VEVENT
BEGIN:VEVENT
DTSTART;VALUE=DATE:20240509
DTEND;VALUE=DATE:20240510
DTSTAMP:20260422T141249
CREATED:20240415T194951Z
LAST-MODIFIED:20240415T194951Z
UID:26938-1715212800-1715299199@cornwallct.org
SUMMARY:NO MOW MAY
DESCRIPTION:NO MOW MAY:Join a national campaign to let lawns grow in May to support bees and other pollinators who are a critical part of the food-web for birds and other wildlife\, which in turn bolsters biodiversity and environmental health. Partial lawns help too. If someone mows for you\, consider paying as usual or tipping them to maintain their income. Search: No Mow May or Bee City USA for more information.
URL:https://cornwallct.org/event/no-mow-may/2024-05-09/
END:VEVENT
BEGIN:VEVENT
DTSTART;VALUE=DATE:20240508
DTEND;VALUE=DATE:20240509
DTSTAMP:20260422T141249
CREATED:20240415T194951Z
LAST-MODIFIED:20240415T194951Z
UID:26937-1715126400-1715212799@cornwallct.org
SUMMARY:NO MOW MAY
DESCRIPTION:NO MOW MAY:Join a national campaign to let lawns grow in May to support bees and other pollinators who are a critical part of the food-web for birds and other wildlife\, which in turn bolsters biodiversity and environmental health. Partial lawns help too. If someone mows for you\, consider paying as usual or tipping them to maintain their income. Search: No Mow May or Bee City USA for more information.
URL:https://cornwallct.org/event/no-mow-may/2024-05-08/
END:VEVENT
BEGIN:VEVENT
DTSTART;VALUE=DATE:20240507
DTEND;VALUE=DATE:20240508
DTSTAMP:20260422T141249
CREATED:20240415T194951Z
LAST-MODIFIED:20240415T194951Z
UID:26936-1715040000-1715126399@cornwallct.org
SUMMARY:NO MOW MAY
DESCRIPTION:NO MOW MAY:Join a national campaign to let lawns grow in May to support bees and other pollinators who are a critical part of the food-web for birds and other wildlife\, which in turn bolsters biodiversity and environmental health. Partial lawns help too. If someone mows for you\, consider paying as usual or tipping them to maintain their income. Search: No Mow May or Bee City USA for more information.
URL:https://cornwallct.org/event/no-mow-may/2024-05-07/
END:VEVENT
BEGIN:VEVENT
DTSTART;VALUE=DATE:20240506
DTEND;VALUE=DATE:20240507
DTSTAMP:20260422T141249
CREATED:20240415T194951Z
LAST-MODIFIED:20240415T194951Z
UID:26935-1714953600-1715039999@cornwallct.org
SUMMARY:NO MOW MAY
DESCRIPTION:NO MOW MAY:Join a national campaign to let lawns grow in May to support bees and other pollinators who are a critical part of the food-web for birds and other wildlife\, which in turn bolsters biodiversity and environmental health. Partial lawns help too. If someone mows for you\, consider paying as usual or tipping them to maintain their income. Search: No Mow May or Bee City USA for more information.
URL:https://cornwallct.org/event/no-mow-may/2024-05-06/
END:VEVENT
BEGIN:VEVENT
DTSTART;VALUE=DATE:20240505
DTEND;VALUE=DATE:20240506
DTSTAMP:20260422T141249
CREATED:20240415T194951Z
LAST-MODIFIED:20240415T194951Z
UID:26934-1714867200-1714953599@cornwallct.org
SUMMARY:NO MOW MAY
DESCRIPTION:NO MOW MAY:Join a national campaign to let lawns grow in May to support bees and other pollinators who are a critical part of the food-web for birds and other wildlife\, which in turn bolsters biodiversity and environmental health. Partial lawns help too. If someone mows for you\, consider paying as usual or tipping them to maintain their income. Search: No Mow May or Bee City USA for more information.
URL:https://cornwallct.org/event/no-mow-may/2024-05-05/
END:VEVENT
BEGIN:VEVENT
DTSTART;VALUE=DATE:20240504
DTEND;VALUE=DATE:20240505
DTSTAMP:20260422T141249
CREATED:20240415T194951Z
LAST-MODIFIED:20240415T194951Z
UID:26933-1714780800-1714867199@cornwallct.org
SUMMARY:NO MOW MAY
DESCRIPTION:NO MOW MAY:Join a national campaign to let lawns grow in May to support bees and other pollinators who are a critical part of the food-web for birds and other wildlife\, which in turn bolsters biodiversity and environmental health. Partial lawns help too. If someone mows for you\, consider paying as usual or tipping them to maintain their income. Search: No Mow May or Bee City USA for more information.
URL:https://cornwallct.org/event/no-mow-may/2024-05-04/
END:VEVENT
BEGIN:VEVENT
DTSTART;VALUE=DATE:20240503
DTEND;VALUE=DATE:20240504
DTSTAMP:20260422T141249
CREATED:20240415T194951Z
LAST-MODIFIED:20240415T194951Z
UID:26932-1714694400-1714780799@cornwallct.org
SUMMARY:NO MOW MAY
DESCRIPTION:NO MOW MAY:Join a national campaign to let lawns grow in May to support bees and other pollinators who are a critical part of the food-web for birds and other wildlife\, which in turn bolsters biodiversity and environmental health. Partial lawns help too. If someone mows for you\, consider paying as usual or tipping them to maintain their income. Search: No Mow May or Bee City USA for more information.
URL:https://cornwallct.org/event/no-mow-may/2024-05-03/
END:VEVENT
BEGIN:VEVENT
DTSTART;VALUE=DATE:20240502
DTEND;VALUE=DATE:20240503
DTSTAMP:20260422T141249
CREATED:20240415T194951Z
LAST-MODIFIED:20240415T194951Z
UID:26931-1714608000-1714694399@cornwallct.org
SUMMARY:NO MOW MAY
DESCRIPTION:NO MOW MAY:Join a national campaign to let lawns grow in May to support bees and other pollinators who are a critical part of the food-web for birds and other wildlife\, which in turn bolsters biodiversity and environmental health. Partial lawns help too. If someone mows for you\, consider paying as usual or tipping them to maintain their income. Search: No Mow May or Bee City USA for more information.
URL:https://cornwallct.org/event/no-mow-may/2024-05-02/
END:VEVENT
END:VCALENDAR