BEGIN:VCALENDAR
VERSION:2.0
PRODID:-//Cornwall CT - ECPv6.15.20//NONSGML v1.0//EN
CALSCALE:GREGORIAN
METHOD:PUBLISH
X-WR-CALNAME:Cornwall CT
X-ORIGINAL-URL:https://cornwallct.org
X-WR-CALDESC:Events for Cornwall CT
REFRESH-INTERVAL;VALUE=DURATION:PT1H
X-Robots-Tag:noindex
X-PUBLISHED-TTL:PT1H
BEGIN:VTIMEZONE
TZID:America/New_York
BEGIN:DAYLIGHT
TZOFFSETFROM:-0500
TZOFFSETTO:-0400
TZNAME:EDT
DTSTART:20240310T070000
END:DAYLIGHT
BEGIN:STANDARD
TZOFFSETFROM:-0400
TZOFFSETTO:-0500
TZNAME:EST
DTSTART:20241103T060000
END:STANDARD
BEGIN:DAYLIGHT
TZOFFSETFROM:-0500
TZOFFSETTO:-0400
TZNAME:EDT
DTSTART:20250309T070000
END:DAYLIGHT
BEGIN:STANDARD
TZOFFSETFROM:-0400
TZOFFSETTO:-0500
TZNAME:EST
DTSTART:20251102T060000
END:STANDARD
BEGIN:DAYLIGHT
TZOFFSETFROM:-0500
TZOFFSETTO:-0400
TZNAME:EDT
DTSTART:20260308T070000
END:DAYLIGHT
BEGIN:STANDARD
TZOFFSETFROM:-0400
TZOFFSETTO:-0500
TZNAME:EST
DTSTART:20261101T060000
END:STANDARD
END:VTIMEZONE
BEGIN:VEVENT
DTSTART;TZID=America/New_York:20250913T140000
DTEND;TZID=America/New_York:20250913T153000
DTSTAMP:20260423T103632
CREATED:20250317T173830Z
LAST-MODIFIED:20250508T223734Z
UID:30576-1757772000-1757777400@cornwallct.org
SUMMARY:Milk Jug Seed Starting Workshop - Yelping Hill Barn
DESCRIPTION:Learn the secrets to seed stratification for fall/winter seed starting with Heidi Cunnick. Participants take away their own milk jug greenhouse. Event followed by refreshments. Yelping Hill Barn. Materials $5. Limit 15 people.\nRSVP by Wednesday\, September 3.
URL:https://cornwallct.org/event/milk-jug-seed-starting-workshop-yelping-hill-barn/
ORGANIZER;CN="Cornwall Garden Club":MAILTO:cornwallgardenclub1@gmail.com
END:VEVENT
END:VCALENDAR