BEGIN:VCALENDAR
VERSION:2.0
PRODID:-//Cornwall CT - ECPv6.15.20//NONSGML v1.0//EN
CALSCALE:GREGORIAN
METHOD:PUBLISH
X-WR-CALNAME:Cornwall CT
X-ORIGINAL-URL:https://cornwallct.org
X-WR-CALDESC:Events for Cornwall CT
REFRESH-INTERVAL;VALUE=DURATION:PT1H
X-Robots-Tag:noindex
X-PUBLISHED-TTL:PT1H
BEGIN:VTIMEZONE
TZID:America/New_York
BEGIN:DAYLIGHT
TZOFFSETFROM:-0500
TZOFFSETTO:-0400
TZNAME:EDT
DTSTART:20210314T070000
END:DAYLIGHT
BEGIN:STANDARD
TZOFFSETFROM:-0400
TZOFFSETTO:-0500
TZNAME:EST
DTSTART:20211107T060000
END:STANDARD
BEGIN:DAYLIGHT
TZOFFSETFROM:-0500
TZOFFSETTO:-0400
TZNAME:EDT
DTSTART:20220313T070000
END:DAYLIGHT
BEGIN:STANDARD
TZOFFSETFROM:-0400
TZOFFSETTO:-0500
TZNAME:EST
DTSTART:20221106T060000
END:STANDARD
BEGIN:DAYLIGHT
TZOFFSETFROM:-0500
TZOFFSETTO:-0400
TZNAME:EDT
DTSTART:20230312T070000
END:DAYLIGHT
BEGIN:STANDARD
TZOFFSETFROM:-0400
TZOFFSETTO:-0500
TZNAME:EST
DTSTART:20231105T060000
END:STANDARD
END:VTIMEZONE
BEGIN:VEVENT
DTSTART;TZID=America/New_York:20220611T170000
DTEND;TZID=America/New_York:20220611T200000
DTSTAMP:20260423T104943
CREATED:20220513T200644Z
LAST-MODIFIED:20220513T200644Z
UID:18534-1654966800-1654977600@cornwallct.org
SUMMARY:IN THE FOUNDERS' FOOTSTEPS: A Walk Through History with Adam Van Doren - Library
DESCRIPTION:Book talk and signing at 5 pm; Artist’s Reception\, 6-8 pm \nThe Cornwall Library is pleased to announce an upcoming book talk and artist’s exhibition by author/artist (and longtime Cornwall resident) Adam Van Doren who will be discussing his newly published volume \nIN THE FOUNDERS’ FOOTSTEPS: Landmarks of the American Revolution (Godine)\, which incorporates his essays and paintings of 32 historic sites of the War of Independence. Historian Nathaniel Philbrick wrote the preface.  \nThe book has received the 2022 Distinguished Book Award from the Society of Colonial Wars\, and has been praised by The New Criterion in its recent issue: “Van Doren’s watercolors give the book visual appeal\, and the window it opens on the lives of these places\, past and present\, makes it worth keeping around.”  \nAfter the talk\, which begins at 5 pm\, Van Doren will have books available and will sign them to anyone who purchases a copy. The artist’s reception which will take place from 6-8\, features an exhibition of original watercolors and oils from the book\, and will be on display and for sale. The art exhibition runs till July 9th.
URL:https://cornwallct.org/event/in-the-founders-footsteps-a-walk-through-history-with-adam-van-doren-library/
LOCATION:The Cornwall Library\, 30 Pine St\, Cornwall\, CT\, 06753\, United States
ATTACH;FMTTYPE=image/jpeg:https://cornwallct.org/wp-content/uploads/2022/05/In-The-Founders-Footsteps.jpg
ORGANIZER;CN="The Cornwall Library":MAILTO:director@cornwalllibrary.org
END:VEVENT
END:VCALENDAR