BEGIN:VCALENDAR
VERSION:2.0
PRODID:-//Cornwall CT - ECPv6.15.20//NONSGML v1.0//EN
CALSCALE:GREGORIAN
METHOD:PUBLISH
X-WR-CALNAME:Cornwall CT
X-ORIGINAL-URL:https://cornwallct.org
X-WR-CALDESC:Events for Cornwall CT
REFRESH-INTERVAL;VALUE=DURATION:PT1H
X-Robots-Tag:noindex
X-PUBLISHED-TTL:PT1H
BEGIN:VTIMEZONE
TZID:America/New_York
BEGIN:DAYLIGHT
TZOFFSETFROM:-0500
TZOFFSETTO:-0400
TZNAME:EDT
DTSTART:20230312T070000
END:DAYLIGHT
BEGIN:STANDARD
TZOFFSETFROM:-0400
TZOFFSETTO:-0500
TZNAME:EST
DTSTART:20231105T060000
END:STANDARD
BEGIN:DAYLIGHT
TZOFFSETFROM:-0500
TZOFFSETTO:-0400
TZNAME:EDT
DTSTART:20240310T070000
END:DAYLIGHT
BEGIN:STANDARD
TZOFFSETFROM:-0400
TZOFFSETTO:-0500
TZNAME:EST
DTSTART:20241103T060000
END:STANDARD
BEGIN:DAYLIGHT
TZOFFSETFROM:-0500
TZOFFSETTO:-0400
TZNAME:EDT
DTSTART:20250309T070000
END:DAYLIGHT
BEGIN:STANDARD
TZOFFSETFROM:-0400
TZOFFSETTO:-0500
TZNAME:EST
DTSTART:20251102T060000
END:STANDARD
END:VTIMEZONE
BEGIN:VEVENT
DTSTART;TZID=America/New_York:20240803T100000
DTEND;TZID=America/New_York:20240803T100000
DTSTAMP:20260421T071546
CREATED:20240716T164834Z
LAST-MODIFIED:20240716T164834Z
UID:28164-1722679200-1722679200@cornwallct.org
SUMMARY:Hike Day Preserve with Fiona Ocain
DESCRIPTION:On Saturday\, August 3 at 10 am Fiona Ocain will lead a hike up the new trail on the Day Preserve that starts on Rt 128 near Dibble Hill Rd. This trail climbs to a meadow to get a beautiful view of Mohawk Mountain. \nDouble-check CornwallConservationTrust.org for updates. No dogs until after the programs please.
URL:https://cornwallct.org/event/hike-day-preserve-with-fiona-ocain/
END:VEVENT
END:VCALENDAR