BEGIN:VCALENDAR
VERSION:2.0
PRODID:-//Cornwall CT - ECPv6.15.20//NONSGML v1.0//EN
CALSCALE:GREGORIAN
METHOD:PUBLISH
X-ORIGINAL-URL:https://cornwallct.org
X-WR-CALDESC:Events for Cornwall CT
REFRESH-INTERVAL;VALUE=DURATION:PT1H
X-Robots-Tag:noindex
X-PUBLISHED-TTL:PT1H
BEGIN:VTIMEZONE
TZID:America/New_York
BEGIN:DAYLIGHT
TZOFFSETFROM:-0500
TZOFFSETTO:-0400
TZNAME:EDT
DTSTART:20220313T070000
END:DAYLIGHT
BEGIN:STANDARD
TZOFFSETFROM:-0400
TZOFFSETTO:-0500
TZNAME:EST
DTSTART:20221106T060000
END:STANDARD
BEGIN:DAYLIGHT
TZOFFSETFROM:-0500
TZOFFSETTO:-0400
TZNAME:EDT
DTSTART:20230312T070000
END:DAYLIGHT
BEGIN:STANDARD
TZOFFSETFROM:-0400
TZOFFSETTO:-0500
TZNAME:EST
DTSTART:20231105T060000
END:STANDARD
BEGIN:DAYLIGHT
TZOFFSETFROM:-0500
TZOFFSETTO:-0400
TZNAME:EDT
DTSTART:20240310T070000
END:DAYLIGHT
BEGIN:STANDARD
TZOFFSETFROM:-0400
TZOFFSETTO:-0500
TZNAME:EST
DTSTART:20241103T060000
END:STANDARD
END:VTIMEZONE
BEGIN:VEVENT
DTSTART;TZID=America/New_York:20230202T091500
DTEND;TZID=America/New_York:20230202T103000
DTSTAMP:20260423T180526
CREATED:20230120T131825Z
LAST-MODIFIED:20230120T131825Z
UID:21279-1675329300-1675333800@cornwallct.org
SUMMARY:Hatha Yoga Class - The Local
DESCRIPTION:Upstairs Wellness at The Local\, offers a mixed-level Hatha yoga class in the Integral Yoga style on Thursdays from 9:15 to 10:30 A.M. A donation of $10 is suggested. Contact Malka Percal at mpercal@gmail.com.
URL:https://cornwallct.org/event/hatha-yoga-class-the-local/2023-02-02/
LOCATION:The Local\, A Cornwall Collective Market\, 415 Sharon-Goshen Turnpike\, West Cornwall\, CT\, 06796\, United States
END:VEVENT
END:VCALENDAR