BEGIN:VCALENDAR
VERSION:2.0
PRODID:-//Cornwall CT - ECPv6.15.20//NONSGML v1.0//EN
CALSCALE:GREGORIAN
METHOD:PUBLISH
X-WR-CALNAME:Cornwall CT
X-ORIGINAL-URL:https://cornwallct.org
X-WR-CALDESC:Events for Cornwall CT
REFRESH-INTERVAL;VALUE=DURATION:PT1H
X-Robots-Tag:noindex
X-PUBLISHED-TTL:PT1H
BEGIN:VTIMEZONE
TZID:America/New_York
BEGIN:DAYLIGHT
TZOFFSETFROM:-0500
TZOFFSETTO:-0400
TZNAME:EDT
DTSTART:20200308T070000
END:DAYLIGHT
BEGIN:STANDARD
TZOFFSETFROM:-0400
TZOFFSETTO:-0500
TZNAME:EST
DTSTART:20201101T060000
END:STANDARD
BEGIN:DAYLIGHT
TZOFFSETFROM:-0500
TZOFFSETTO:-0400
TZNAME:EDT
DTSTART:20210314T070000
END:DAYLIGHT
BEGIN:STANDARD
TZOFFSETFROM:-0400
TZOFFSETTO:-0500
TZNAME:EST
DTSTART:20211107T060000
END:STANDARD
BEGIN:DAYLIGHT
TZOFFSETFROM:-0500
TZOFFSETTO:-0400
TZNAME:EDT
DTSTART:20220313T070000
END:DAYLIGHT
BEGIN:STANDARD
TZOFFSETFROM:-0400
TZOFFSETTO:-0500
TZNAME:EST
DTSTART:20221106T060000
END:STANDARD
END:VTIMEZONE
BEGIN:VEVENT
DTSTART;TZID=America/New_York:20210715T110000
DTEND;TZID=America/New_York:20210715T140000
DTSTAMP:20260424T220001
CREATED:20210414T164215Z
LAST-MODIFIED:20210414T165543Z
UID:13563-1626346800-1626357600@cornwallct.org
SUMMARY:Gardener's Adventure - The Cornwall Garden Club
DESCRIPTION:A special private tour of The Wethersfield Garden in Amenia\, NY with head gardener Toshi Yano\, Tour & Box Lunch $30\, Limit 20\, RSVP by July 6 at cornwallgardenclub1@gmail.com. \nPresented by The Cornwall Garden Club
URL:https://cornwallct.org/event/gardeners-adventure-the-cornwall-garden-club/
ATTACH;FMTTYPE=image/jpeg:https://cornwallct.org/wp-content/uploads/2021/04/Cornwall-Garden-Club.jpg
ORGANIZER;CN="Cornwall Garden Club":MAILTO:cornwallgardenclub1@gmail.com
END:VEVENT
END:VCALENDAR