BEGIN:VCALENDAR
VERSION:2.0
PRODID:-//Cornwall CT - ECPv6.15.20//NONSGML v1.0//EN
CALSCALE:GREGORIAN
METHOD:PUBLISH
X-WR-CALNAME:Cornwall CT
X-ORIGINAL-URL:https://cornwallct.org
X-WR-CALDESC:Events for Cornwall CT
REFRESH-INTERVAL;VALUE=DURATION:PT1H
X-Robots-Tag:noindex
X-PUBLISHED-TTL:PT1H
BEGIN:VTIMEZONE
TZID:America/New_York
BEGIN:DAYLIGHT
TZOFFSETFROM:-0500
TZOFFSETTO:-0400
TZNAME:EDT
DTSTART:20240310T070000
END:DAYLIGHT
BEGIN:STANDARD
TZOFFSETFROM:-0400
TZOFFSETTO:-0500
TZNAME:EST
DTSTART:20241103T060000
END:STANDARD
BEGIN:DAYLIGHT
TZOFFSETFROM:-0500
TZOFFSETTO:-0400
TZNAME:EDT
DTSTART:20250309T070000
END:DAYLIGHT
BEGIN:STANDARD
TZOFFSETFROM:-0400
TZOFFSETTO:-0500
TZNAME:EST
DTSTART:20251102T060000
END:STANDARD
BEGIN:DAYLIGHT
TZOFFSETFROM:-0500
TZOFFSETTO:-0400
TZNAME:EDT
DTSTART:20260308T070000
END:DAYLIGHT
BEGIN:STANDARD
TZOFFSETFROM:-0400
TZOFFSETTO:-0500
TZNAME:EST
DTSTART:20261101T060000
END:STANDARD
END:VTIMEZONE
BEGIN:VEVENT
DTSTART;TZID=America/New_York:20250201T110000
DTEND;TZID=America/New_York:20250201T120000
DTSTAMP:20260423T131805
CREATED:20250127T213142Z
LAST-MODIFIED:20250127T213142Z
UID:30269-1738407600-1738411200@cornwallct.org
SUMMARY:For the Animal Lover in You! - Little Guild Animal Shelter Fundraiser
DESCRIPTION:Click on “Fundraising Dow Integrative Animal Class: Donation”. Follow the directions to register by clicking on the “link”\, click on the blue-highlighted date (2/1/25)\, click on the “11:00”\, click on “next”\, fill out your contact information\, make your donation\, and you will receive the Google Meet link. See you ONLINE! Handouts will be sent to you before class. \n 
URL:https://cornwallct.org/event/for-the-animal-lover-in-you-little-guild-animal-shelter-fundraiser/
LOCATION:Virtual
END:VEVENT
END:VCALENDAR