BEGIN:VCALENDAR
VERSION:2.0
PRODID:-//Cornwall CT - ECPv6.15.20//NONSGML v1.0//EN
CALSCALE:GREGORIAN
METHOD:PUBLISH
X-WR-CALNAME:Cornwall CT
X-ORIGINAL-URL:https://cornwallct.org
X-WR-CALDESC:Events for Cornwall CT
REFRESH-INTERVAL;VALUE=DURATION:PT1H
X-Robots-Tag:noindex
X-PUBLISHED-TTL:PT1H
BEGIN:VTIMEZONE
TZID:America/New_York
BEGIN:DAYLIGHT
TZOFFSETFROM:-0500
TZOFFSETTO:-0400
TZNAME:EDT
DTSTART:20220313T070000
END:DAYLIGHT
BEGIN:STANDARD
TZOFFSETFROM:-0400
TZOFFSETTO:-0500
TZNAME:EST
DTSTART:20221106T060000
END:STANDARD
BEGIN:DAYLIGHT
TZOFFSETFROM:-0500
TZOFFSETTO:-0400
TZNAME:EDT
DTSTART:20230312T070000
END:DAYLIGHT
BEGIN:STANDARD
TZOFFSETFROM:-0400
TZOFFSETTO:-0500
TZNAME:EST
DTSTART:20231105T060000
END:STANDARD
BEGIN:DAYLIGHT
TZOFFSETFROM:-0500
TZOFFSETTO:-0400
TZNAME:EDT
DTSTART:20240310T070000
END:DAYLIGHT
BEGIN:STANDARD
TZOFFSETFROM:-0400
TZOFFSETTO:-0500
TZNAME:EST
DTSTART:20241103T060000
END:STANDARD
END:VTIMEZONE
BEGIN:VEVENT
DTSTART;TZID=America/New_York:20230501T173000
DTEND;TZID=America/New_York:20230501T184500
DTSTAMP:20260423T110314
CREATED:20230223T185710Z
LAST-MODIFIED:20230416T120837Z
UID:21570-1682962200-1682966700@cornwallct.org
SUMMARY:Hatha Yoga with Nancy Opgaard - Wellness Upstairs at The Union
DESCRIPTION:Hatha Yoga with Nancy Opgaard\, Mondays 5:30 P.M. Wednesdays\, at 8:30A.M.\, and Sundays 9AM to 10:30 A.M. – Upstairs at The Union\nThe fee is $15.00\, a portion of which goes to the Hughes Memorial Library\nPlease contact Nancy Opgaard at nannyopgaard@gmail.com or 203-520-1697
URL:https://cornwallct.org/event/exploring-yoga-with-nancy-upstairs-at-the-union-may/2023-05-01/
LOCATION:The Union\, 415 Sharon-Goshen Turnpike\, West Cornwall\, CT\, 06796
END:VEVENT
END:VCALENDAR