BEGIN:VCALENDAR
VERSION:2.0
PRODID:-//Cornwall CT - ECPv6.15.20//NONSGML v1.0//EN
CALSCALE:GREGORIAN
METHOD:PUBLISH
X-WR-CALNAME:Cornwall CT
X-ORIGINAL-URL:https://cornwallct.org
X-WR-CALDESC:Events for Cornwall CT
REFRESH-INTERVAL;VALUE=DURATION:PT1H
X-Robots-Tag:noindex
X-PUBLISHED-TTL:PT1H
BEGIN:VTIMEZONE
TZID:America/New_York
BEGIN:DAYLIGHT
TZOFFSETFROM:-0500
TZOFFSETTO:-0400
TZNAME:EDT
DTSTART:20210314T070000
END:DAYLIGHT
BEGIN:STANDARD
TZOFFSETFROM:-0400
TZOFFSETTO:-0500
TZNAME:EST
DTSTART:20211107T060000
END:STANDARD
BEGIN:DAYLIGHT
TZOFFSETFROM:-0500
TZOFFSETTO:-0400
TZNAME:EDT
DTSTART:20220313T070000
END:DAYLIGHT
BEGIN:STANDARD
TZOFFSETFROM:-0400
TZOFFSETTO:-0500
TZNAME:EST
DTSTART:20221106T060000
END:STANDARD
BEGIN:DAYLIGHT
TZOFFSETFROM:-0500
TZOFFSETTO:-0400
TZNAME:EDT
DTSTART:20230312T070000
END:DAYLIGHT
BEGIN:STANDARD
TZOFFSETFROM:-0400
TZOFFSETTO:-0500
TZNAME:EST
DTSTART:20231105T060000
END:STANDARD
END:VTIMEZONE
BEGIN:VEVENT
DTSTART;TZID=America/New_York:20220313T160000
DTEND;TZID=America/New_York:20220313T160000
DTSTAMP:20260425T083727
CREATED:20220217T194629Z
LAST-MODIFIED:20220301T213312Z
UID:17879-1647187200-1647187200@cornwallct.org
SUMMARY:Dani Shapiro in Conversation with Roxana Robinson - Zoom
DESCRIPTION:Dani Shapiro with Roxana Robinson on Sunday\, March 13 at 4pm. Dani Shapiro is the author of the best-selling memoirs Slow Motion\, Devotion\, Hourglass and her most recent\, Inheritance\, as well as five novels. Her new novel Signal Fires will be published by Knopf in fall 2022. She will be in conversation about Inheritance\, discussing family\, memory and history with the novelist and biographer Roxana Robinson\, author of nine books of fiction and the biography of Georgia O’Keeffe. Via Zoom. Register at Cornwalllibrary.org.
URL:https://cornwallct.org/event/dani-shapiro-with-roxana-robinson-zoom/
LOCATION:Virtual
ATTACH;FMTTYPE=image/jpeg:https://cornwallct.org/wp-content/uploads/2022/02/InheritanceHiRes.jpg
ORGANIZER;CN="The Cornwall Library":MAILTO:director@cornwalllibrary.org
END:VEVENT
END:VCALENDAR