BEGIN:VCALENDAR
VERSION:2.0
PRODID:-//Cornwall CT - ECPv6.15.20//NONSGML v1.0//EN
CALSCALE:GREGORIAN
METHOD:PUBLISH
X-WR-CALNAME:Cornwall CT
X-ORIGINAL-URL:https://cornwallct.org
X-WR-CALDESC:Events for Cornwall CT
REFRESH-INTERVAL;VALUE=DURATION:PT1H
X-Robots-Tag:noindex
X-PUBLISHED-TTL:PT1H
BEGIN:VTIMEZONE
TZID:America/New_York
BEGIN:DAYLIGHT
TZOFFSETFROM:-0500
TZOFFSETTO:-0400
TZNAME:EDT
DTSTART:20240310T070000
END:DAYLIGHT
BEGIN:STANDARD
TZOFFSETFROM:-0400
TZOFFSETTO:-0500
TZNAME:EST
DTSTART:20241103T060000
END:STANDARD
BEGIN:DAYLIGHT
TZOFFSETFROM:-0500
TZOFFSETTO:-0400
TZNAME:EDT
DTSTART:20250309T070000
END:DAYLIGHT
BEGIN:STANDARD
TZOFFSETFROM:-0400
TZOFFSETTO:-0500
TZNAME:EST
DTSTART:20251102T060000
END:STANDARD
BEGIN:DAYLIGHT
TZOFFSETFROM:-0500
TZOFFSETTO:-0400
TZNAME:EDT
DTSTART:20260308T070000
END:DAYLIGHT
BEGIN:STANDARD
TZOFFSETFROM:-0400
TZOFFSETTO:-0500
TZNAME:EST
DTSTART:20261101T060000
END:STANDARD
END:VTIMEZONE
BEGIN:VEVENT
DTSTART;TZID=America/New_York:20250607T093000
DTEND;TZID=America/New_York:20250607T120000
DTSTAMP:20260419T143720
CREATED:20250515T114409Z
LAST-MODIFIED:20250515T114409Z
UID:31100-1749288600-1749297600@cornwallct.org
SUMMARY:CT Trails Day/Cornwall Trails Day
DESCRIPTION:Please be aware of ticks and consult our website for any updates due to weather changes before coming\, CornwallConservationTrust.org. \nCT Trail Days/Cornwall Trails Day. On June 7 starting at 9:30 at the Foote Field Pavilion (and parking opposite 60 Furnace Brook Road\, Cornwall\, CT 06753). Let’s celebrate Cornwall Trails\nby assembling then splitting up to walk our preserves and trails that spread out from Cornwall Village. They are of varying difficulty: Furnace Brook (reclaimed fields and wetlands-easy mile)\, Ballyhack (forested pine and laurel ravine – moderate 1-2 miles)\, Foote (gently sloping field with classic valley views – half mile)\, and Cathedral Pines (steep old forest – 1-2 miles). Bring a sandwich and something to share for lunch at noon. Dogs welcome.
URL:https://cornwallct.org/event/ct-trails-day-cornwall-trails-day/
LOCATION:Foote Fields\, Furnace Brook Road\, Cornwall Bridge\, CT\, 06754
END:VEVENT
END:VCALENDAR