BEGIN:VCALENDAR
VERSION:2.0
PRODID:-//Cornwall CT - ECPv6.15.20//NONSGML v1.0//EN
CALSCALE:GREGORIAN
METHOD:PUBLISH
X-WR-CALNAME:Cornwall CT
X-ORIGINAL-URL:https://cornwallct.org
X-WR-CALDESC:Events for Cornwall CT
REFRESH-INTERVAL;VALUE=DURATION:PT1H
X-Robots-Tag:noindex
X-PUBLISHED-TTL:PT1H
BEGIN:VTIMEZONE
TZID:America/New_York
BEGIN:DAYLIGHT
TZOFFSETFROM:-0500
TZOFFSETTO:-0400
TZNAME:EDT
DTSTART:20210314T070000
END:DAYLIGHT
BEGIN:STANDARD
TZOFFSETFROM:-0400
TZOFFSETTO:-0500
TZNAME:EST
DTSTART:20211107T060000
END:STANDARD
BEGIN:DAYLIGHT
TZOFFSETFROM:-0500
TZOFFSETTO:-0400
TZNAME:EDT
DTSTART:20220313T070000
END:DAYLIGHT
BEGIN:STANDARD
TZOFFSETFROM:-0400
TZOFFSETTO:-0500
TZNAME:EST
DTSTART:20221106T060000
END:STANDARD
BEGIN:DAYLIGHT
TZOFFSETFROM:-0500
TZOFFSETTO:-0400
TZNAME:EDT
DTSTART:20230312T070000
END:DAYLIGHT
BEGIN:STANDARD
TZOFFSETFROM:-0400
TZOFFSETTO:-0500
TZNAME:EST
DTSTART:20231105T060000
END:STANDARD
END:VTIMEZONE
BEGIN:VEVENT
DTSTART;TZID=America/New_York:20220413T130000
DTEND;TZID=America/New_York:20220413T180000
DTSTAMP:20260420T134049
CREATED:20220402T172311Z
LAST-MODIFIED:20220402T172311Z
UID:18156-1649854800-1649872800@cornwallct.org
SUMMARY:Covid Clinic
DESCRIPTION:Covid Clinic in Cornwall at the Cornwall Town Hall\, 26 Pine Street on Wednesday\, April 13th from 1:00-6:00.   \nThis is open to everyone 12+ years in Cornwall and the Northwest corner\, no appointment is needed.  \nAll doses of vaccine types\, J&J\, Pfizer\, and Moderna for 1st\, 2nd\, and boosters. People who are 50+ or those who are highly immunocompromised can get their 2nd boosters that just got approved by the CDC and the FDA.  \nIt is recommended that people wait 4 months in between booster doses. \nIf you have any questions please feel free to contact me either by email or phone.  prcornwall@gmail.com or call/text 860-480-0600.
URL:https://cornwallct.org/event/covid-clinic/
LOCATION:Cornwall Town Hall\, 24-26 Pine Street\, Cornwall\, CT\, 06753\, United States
ATTACH;FMTTYPE=image/jpeg:https://cornwallct.org/wp-content/uploads/2022/04/covid-clinic.jpg
END:VEVENT
END:VCALENDAR