BEGIN:VCALENDAR
VERSION:2.0
PRODID:-//Cornwall CT - ECPv6.15.20//NONSGML v1.0//EN
CALSCALE:GREGORIAN
METHOD:PUBLISH
X-ORIGINAL-URL:https://cornwallct.org
X-WR-CALDESC:Events for Cornwall CT
REFRESH-INTERVAL;VALUE=DURATION:PT1H
X-Robots-Tag:noindex
X-PUBLISHED-TTL:PT1H
BEGIN:VTIMEZONE
TZID:America/New_York
BEGIN:DAYLIGHT
TZOFFSETFROM:-0500
TZOFFSETTO:-0400
TZNAME:EDT
DTSTART:20250309T070000
END:DAYLIGHT
BEGIN:STANDARD
TZOFFSETFROM:-0400
TZOFFSETTO:-0500
TZNAME:EST
DTSTART:20251102T060000
END:STANDARD
BEGIN:DAYLIGHT
TZOFFSETFROM:-0500
TZOFFSETTO:-0400
TZNAME:EDT
DTSTART:20260308T070000
END:DAYLIGHT
BEGIN:STANDARD
TZOFFSETFROM:-0400
TZOFFSETTO:-0500
TZNAME:EST
DTSTART:20261101T060000
END:STANDARD
BEGIN:DAYLIGHT
TZOFFSETFROM:-0500
TZOFFSETTO:-0400
TZNAME:EDT
DTSTART:20270314T070000
END:DAYLIGHT
BEGIN:STANDARD
TZOFFSETFROM:-0400
TZOFFSETTO:-0500
TZNAME:EST
DTSTART:20271107T060000
END:STANDARD
END:VTIMEZONE
BEGIN:VEVENT
DTSTART;TZID=America/New_York:20260521T090000
DTEND;TZID=America/New_York:20260521T100000
DTSTAMP:20260423T054139
CREATED:20251217T191328Z
LAST-MODIFIED:20251217T191344Z
UID:33316-1779354000-1779357600@cornwallct.org
SUMMARY:Cornwall Conservation Commission Meeting - Zoom or In Person
DESCRIPTION:3rd Thursday of month\, except as noted*\nat 9:00 a.m. on Zoom (In person at Cornwall\nLibrary in March and November) \nJanuary 15\nFebruary (No meeting)\nMarch 19 In Person\nApril 16\nMay 21\nJune 18\nJuly 16\nAugust 20\nSeptember 17\nOctober 15\nNovember 19 – In person\nDecember (No meeting)
URL:https://cornwallct.org/event/cornwall-conservation-commission-meeting-zoom-or-in-person/2026-05-21/
END:VEVENT
BEGIN:VEVENT
DTSTART;TZID=America/New_York:20260618T090000
DTEND;TZID=America/New_York:20260618T100000
DTSTAMP:20260423T054139
CREATED:20251217T191328Z
LAST-MODIFIED:20251217T191344Z
UID:33317-1781773200-1781776800@cornwallct.org
SUMMARY:Cornwall Conservation Commission Meeting - Zoom or In Person
DESCRIPTION:3rd Thursday of month\, except as noted*\nat 9:00 a.m. on Zoom (In person at Cornwall\nLibrary in March and November) \nJanuary 15\nFebruary (No meeting)\nMarch 19 In Person\nApril 16\nMay 21\nJune 18\nJuly 16\nAugust 20\nSeptember 17\nOctober 15\nNovember 19 – In person\nDecember (No meeting)
URL:https://cornwallct.org/event/cornwall-conservation-commission-meeting-zoom-or-in-person/2026-06-18/
END:VEVENT
BEGIN:VEVENT
DTSTART;TZID=America/New_York:20260716T090000
DTEND;TZID=America/New_York:20260716T100000
DTSTAMP:20260423T054139
CREATED:20251217T191328Z
LAST-MODIFIED:20251217T191344Z
UID:33318-1784192400-1784196000@cornwallct.org
SUMMARY:Cornwall Conservation Commission Meeting - Zoom or In Person
DESCRIPTION:3rd Thursday of month\, except as noted*\nat 9:00 a.m. on Zoom (In person at Cornwall\nLibrary in March and November) \nJanuary 15\nFebruary (No meeting)\nMarch 19 In Person\nApril 16\nMay 21\nJune 18\nJuly 16\nAugust 20\nSeptember 17\nOctober 15\nNovember 19 – In person\nDecember (No meeting)
URL:https://cornwallct.org/event/cornwall-conservation-commission-meeting-zoom-or-in-person/2026-07-16/
END:VEVENT
BEGIN:VEVENT
DTSTART;TZID=America/New_York:20260820T090000
DTEND;TZID=America/New_York:20260820T100000
DTSTAMP:20260423T054139
CREATED:20251217T191328Z
LAST-MODIFIED:20251217T191345Z
UID:33319-1787216400-1787220000@cornwallct.org
SUMMARY:Cornwall Conservation Commission Meeting - Zoom or In Person
DESCRIPTION:3rd Thursday of month\, except as noted*\nat 9:00 a.m. on Zoom (In person at Cornwall\nLibrary in March and November) \nJanuary 15\nFebruary (No meeting)\nMarch 19 In Person\nApril 16\nMay 21\nJune 18\nJuly 16\nAugust 20\nSeptember 17\nOctober 15\nNovember 19 – In person\nDecember (No meeting)
URL:https://cornwallct.org/event/cornwall-conservation-commission-meeting-zoom-or-in-person/2026-08-20/
END:VEVENT
BEGIN:VEVENT
DTSTART;TZID=America/New_York:20260917T090000
DTEND;TZID=America/New_York:20260917T100000
DTSTAMP:20260423T054139
CREATED:20251217T191328Z
LAST-MODIFIED:20251217T191345Z
UID:33320-1789635600-1789639200@cornwallct.org
SUMMARY:Cornwall Conservation Commission Meeting - Zoom or In Person
DESCRIPTION:3rd Thursday of month\, except as noted*\nat 9:00 a.m. on Zoom (In person at Cornwall\nLibrary in March and November) \nJanuary 15\nFebruary (No meeting)\nMarch 19 In Person\nApril 16\nMay 21\nJune 18\nJuly 16\nAugust 20\nSeptember 17\nOctober 15\nNovember 19 – In person\nDecember (No meeting)
URL:https://cornwallct.org/event/cornwall-conservation-commission-meeting-zoom-or-in-person/2026-09-17/
END:VEVENT
BEGIN:VEVENT
DTSTART;TZID=America/New_York:20261015T090000
DTEND;TZID=America/New_York:20261015T100000
DTSTAMP:20260423T054139
CREATED:20251217T191328Z
LAST-MODIFIED:20251217T191345Z
UID:33321-1792054800-1792058400@cornwallct.org
SUMMARY:Cornwall Conservation Commission Meeting - Zoom or In Person
DESCRIPTION:3rd Thursday of month\, except as noted*\nat 9:00 a.m. on Zoom (In person at Cornwall\nLibrary in March and November) \nJanuary 15\nFebruary (No meeting)\nMarch 19 In Person\nApril 16\nMay 21\nJune 18\nJuly 16\nAugust 20\nSeptember 17\nOctober 15\nNovember 19 – In person\nDecember (No meeting)
URL:https://cornwallct.org/event/cornwall-conservation-commission-meeting-zoom-or-in-person/2026-10-15/
END:VEVENT
BEGIN:VEVENT
DTSTART;TZID=America/New_York:20261119T090000
DTEND;TZID=America/New_York:20261119T100000
DTSTAMP:20260423T054139
CREATED:20251217T191328Z
LAST-MODIFIED:20251217T191345Z
UID:33322-1795078800-1795082400@cornwallct.org
SUMMARY:Cornwall Conservation Commission Meeting - Zoom or In Person
DESCRIPTION:3rd Thursday of month\, except as noted*\nat 9:00 a.m. on Zoom (In person at Cornwall\nLibrary in March and November) \nJanuary 15\nFebruary (No meeting)\nMarch 19 In Person\nApril 16\nMay 21\nJune 18\nJuly 16\nAugust 20\nSeptember 17\nOctober 15\nNovember 19 – In person\nDecember (No meeting)
URL:https://cornwallct.org/event/cornwall-conservation-commission-meeting-zoom-or-in-person/2026-11-19/
END:VEVENT
END:VCALENDAR