BEGIN:VCALENDAR
VERSION:2.0
PRODID:-//Cornwall CT - ECPv6.15.20//NONSGML v1.0//EN
CALSCALE:GREGORIAN
METHOD:PUBLISH
X-WR-CALNAME:Cornwall CT
X-ORIGINAL-URL:https://cornwallct.org
X-WR-CALDESC:Events for Cornwall CT
REFRESH-INTERVAL;VALUE=DURATION:PT1H
X-Robots-Tag:noindex
X-PUBLISHED-TTL:PT1H
BEGIN:VTIMEZONE
TZID:America/New_York
BEGIN:DAYLIGHT
TZOFFSETFROM:-0500
TZOFFSETTO:-0400
TZNAME:EDT
DTSTART:20230312T070000
END:DAYLIGHT
BEGIN:STANDARD
TZOFFSETFROM:-0400
TZOFFSETTO:-0500
TZNAME:EST
DTSTART:20231105T060000
END:STANDARD
BEGIN:DAYLIGHT
TZOFFSETFROM:-0500
TZOFFSETTO:-0400
TZNAME:EDT
DTSTART:20240310T070000
END:DAYLIGHT
BEGIN:STANDARD
TZOFFSETFROM:-0400
TZOFFSETTO:-0500
TZNAME:EST
DTSTART:20241103T060000
END:STANDARD
BEGIN:DAYLIGHT
TZOFFSETFROM:-0500
TZOFFSETTO:-0400
TZNAME:EDT
DTSTART:20250309T070000
END:DAYLIGHT
BEGIN:STANDARD
TZOFFSETFROM:-0400
TZOFFSETTO:-0500
TZNAME:EST
DTSTART:20251102T060000
END:STANDARD
END:VTIMEZONE
BEGIN:VEVENT
DTSTART;TZID=America/New_York:20241017T090000
DTEND;TZID=America/New_York:20241017T090000
DTSTAMP:20260422T184932
CREATED:20231218T195604Z
LAST-MODIFIED:20240923T150507Z
UID:25536-1729155600-1729155600@cornwallct.org
SUMMARY:Cornwall Conservation Commission Meeting - Zoom
DESCRIPTION:All meetings take place on the third Thursday of the month at 9am on zoom unless otherwise indicated. When meeting in person\, the meetings will take place at the Cornwall Free Library. There will be no meeting in February or December. \nLocation: Zoom\nhttps://us06web.zoom.us/j/87356386114?pwd=RktKSnZleG5KWC90Tzc1M1h5bm1Zdz09\nPasscode: 351100
URL:https://cornwallct.org/event/cornwall-conservation-commission-meeting-2024-2024-10-17/
LOCATION:Virtual
ATTACH;FMTTYPE=image/jpeg:https://cornwallct.org/wp-content/uploads/2020/12/Cornwall-Conservation-Commission.jpg
END:VEVENT
END:VCALENDAR