BEGIN:VCALENDAR
VERSION:2.0
PRODID:-//Cornwall CT - ECPv6.15.20//NONSGML v1.0//EN
CALSCALE:GREGORIAN
METHOD:PUBLISH
X-WR-CALNAME:Cornwall CT
X-ORIGINAL-URL:https://cornwallct.org
X-WR-CALDESC:Events for Cornwall CT
REFRESH-INTERVAL;VALUE=DURATION:PT1H
X-Robots-Tag:noindex
X-PUBLISHED-TTL:PT1H
BEGIN:VTIMEZONE
TZID:America/New_York
BEGIN:DAYLIGHT
TZOFFSETFROM:-0500
TZOFFSETTO:-0400
TZNAME:EDT
DTSTART:20240310T070000
END:DAYLIGHT
BEGIN:STANDARD
TZOFFSETFROM:-0400
TZOFFSETTO:-0500
TZNAME:EST
DTSTART:20241103T060000
END:STANDARD
BEGIN:DAYLIGHT
TZOFFSETFROM:-0500
TZOFFSETTO:-0400
TZNAME:EDT
DTSTART:20250309T070000
END:DAYLIGHT
BEGIN:STANDARD
TZOFFSETFROM:-0400
TZOFFSETTO:-0500
TZNAME:EST
DTSTART:20251102T060000
END:STANDARD
BEGIN:DAYLIGHT
TZOFFSETFROM:-0500
TZOFFSETTO:-0400
TZNAME:EDT
DTSTART:20260308T070000
END:DAYLIGHT
BEGIN:STANDARD
TZOFFSETFROM:-0400
TZOFFSETTO:-0500
TZNAME:EST
DTSTART:20261101T060000
END:STANDARD
END:VTIMEZONE
BEGIN:VEVENT
DTSTART;TZID=America/New_York:20251025T170000
DTEND;TZID=America/New_York:20251025T170000
DTSTAMP:20260422T010627
CREATED:20250913T173642Z
LAST-MODIFIED:20250924T155012Z
UID:32242-1761411600-1761411600@cornwallct.org
SUMMARY:Confused by the News? Three Journalists Sort Through the Noise - Library
DESCRIPTION:For those brave enough to follow the news these days\, the experience can be overwhelming. What’s real and what’s fake? What is the truth? How is technology changing the equation? Kurt Andersen\, Charlotte Howard\, and Joel Simon discuss the state of the news industry and provide practical guidance on how people who want to be informed and engaged can stay up to speed. \nJoel Simon is founding director of the Journalism Protection Initiative at the Craig Newmark Graduate School of Journalism at CUNY and the former executive director of the Committee to Protect Journalists. He is author of four books and writes on media issues for the New Yorker\, Vanity Fair\, and Columbia Journalism Review. \nKurt Andersen is the author of the New York Times bestsellers Evil Geniuses and Fantasyland\, as well as the bestselling novels You Can’t Spell America Without Me\, True Believers\, Heyday\, and Turn of the Century. With Steven Soderbergh he co-created the streaming series Command Z (2023)\, and has previously written for TV\, film and the stage. He co-founded Spy magazine\, co-created and hosted the Peabody Award-winning public radio show and podcast Studio 360\, and hosted and co-produced the podcast Nixon at War (2021). He’s also a journalist – regular contributor to the New York Times and The Atlantic\, formerly a New Yorker columnist\, Time critic and columnist\, and New York Editor in Chief. \nCharlotte Howard is The Economist’s executive editor\, New York bureau chief and co-host of the Checks and Balance podcast. Prior to this\, she served as The Economist’s US business editor. In other beats she has covered the energy sector and climate policy\, consumer goods and retail\, the global health-care industry and politics and policy in America’s Midwest. She joined The Economist in 2004 and is a graduate of Yale University. \nRegistration is required at cornwalllibrary.org.
URL:https://cornwallct.org/event/confused-by-the-news-three-journalists-sort-through-the-noise-library/
LOCATION:The Cornwall Library\, 30 Pine St\, Cornwall\, CT\, 06753\, United States
ORGANIZER;CN="The Cornwall Library":MAILTO:director@cornwalllibrary.org
END:VEVENT
END:VCALENDAR