BEGIN:VCALENDAR
VERSION:2.0
PRODID:-//Cornwall CT - ECPv6.15.20//NONSGML v1.0//EN
CALSCALE:GREGORIAN
METHOD:PUBLISH
X-WR-CALNAME:Cornwall CT
X-ORIGINAL-URL:https://cornwallct.org
X-WR-CALDESC:Events for Cornwall CT
REFRESH-INTERVAL;VALUE=DURATION:PT1H
X-Robots-Tag:noindex
X-PUBLISHED-TTL:PT1H
BEGIN:VTIMEZONE
TZID:America/New_York
BEGIN:DAYLIGHT
TZOFFSETFROM:-0500
TZOFFSETTO:-0400
TZNAME:EDT
DTSTART:20210314T070000
END:DAYLIGHT
BEGIN:STANDARD
TZOFFSETFROM:-0400
TZOFFSETTO:-0500
TZNAME:EST
DTSTART:20211107T060000
END:STANDARD
BEGIN:DAYLIGHT
TZOFFSETFROM:-0500
TZOFFSETTO:-0400
TZNAME:EDT
DTSTART:20220313T070000
END:DAYLIGHT
BEGIN:STANDARD
TZOFFSETFROM:-0400
TZOFFSETTO:-0500
TZNAME:EST
DTSTART:20221106T060000
END:STANDARD
BEGIN:DAYLIGHT
TZOFFSETFROM:-0500
TZOFFSETTO:-0400
TZNAME:EDT
DTSTART:20230312T070000
END:DAYLIGHT
BEGIN:STANDARD
TZOFFSETFROM:-0400
TZOFFSETTO:-0500
TZNAME:EST
DTSTART:20231105T060000
END:STANDARD
END:VTIMEZONE
BEGIN:VEVENT
DTSTART;TZID=America/New_York:20221112T150000
DTEND;TZID=America/New_York:20221112T160000
DTSTAMP:20260422T213542
CREATED:20221013T191141Z
LAST-MODIFIED:20221013T200022Z
UID:20345-1668265200-1668268800@cornwallct.org
SUMMARY:CCT Panel Discussion: Conservation and Affordable Housing in Cornwall - Zoom
DESCRIPTION:Conservation and Affordable Housing in Cornwall – A Panel Discussion as part of our Annual Meeting. Saturday\, November 12 at 3pm by Zoom. Ingrid Ellen\, The Paulette Goddard Professor of Urban Policy and Planning at New York University\, will moderate a panel discussion among Jocelyn Ayer\, Director\, Litchfield County Center for Housing Opportunity\, Ginni Block\, Chair\, Cornwall Housing Corporation\, Heidi Cunnick\, Chair\, Cornwall Conservation Commission\, Bart Jones\, President\, Cornwall Conservation Trust\, and Anna Timell\, Chair\, Cornwall Planning & Zoning Commission. The panel will answer questions about facts and issues around conservation and affordable housing in Cornwall.  Their goal will be to give residents a better understanding of how both of these important parts of life in Cornwall can be made to work in concert towards a common goal. \nFor the link see cornwallconservationtrust.org and the required registration.
URL:https://cornwallct.org/event/cct-panel-discussion-conservation-and-affordable-housing-in-cornwall-zoom/
LOCATION:Virtual
END:VEVENT
END:VCALENDAR