BEGIN:VCALENDAR
VERSION:2.0
PRODID:-//Cornwall CT - ECPv6.15.20//NONSGML v1.0//EN
CALSCALE:GREGORIAN
METHOD:PUBLISH
X-WR-CALNAME:Cornwall CT
X-ORIGINAL-URL:https://cornwallct.org
X-WR-CALDESC:Events for Cornwall CT
REFRESH-INTERVAL;VALUE=DURATION:PT1H
X-Robots-Tag:noindex
X-PUBLISHED-TTL:PT1H
BEGIN:VTIMEZONE
TZID:America/New_York
BEGIN:DAYLIGHT
TZOFFSETFROM:-0500
TZOFFSETTO:-0400
TZNAME:EDT
DTSTART:20210314T070000
END:DAYLIGHT
BEGIN:STANDARD
TZOFFSETFROM:-0400
TZOFFSETTO:-0500
TZNAME:EST
DTSTART:20211107T060000
END:STANDARD
BEGIN:DAYLIGHT
TZOFFSETFROM:-0500
TZOFFSETTO:-0400
TZNAME:EDT
DTSTART:20220313T070000
END:DAYLIGHT
BEGIN:STANDARD
TZOFFSETFROM:-0400
TZOFFSETTO:-0500
TZNAME:EST
DTSTART:20221106T060000
END:STANDARD
BEGIN:DAYLIGHT
TZOFFSETFROM:-0500
TZOFFSETTO:-0400
TZNAME:EDT
DTSTART:20230312T070000
END:DAYLIGHT
BEGIN:STANDARD
TZOFFSETFROM:-0400
TZOFFSETTO:-0500
TZNAME:EST
DTSTART:20231105T060000
END:STANDARD
END:VTIMEZONE
BEGIN:VEVENT
DTSTART;TZID=America/New_York:20221022T130000
DTEND;TZID=America/New_York:20221022T130000
DTSTAMP:20260421T093140
CREATED:20220915T184203Z
LAST-MODIFIED:20220915T184203Z
UID:19976-1666443600-1666443600@cornwallct.org
SUMMARY:CCT Annual Mushroom Walk with Dave Paton
DESCRIPTION:At Trinity Preserve on Dibble Hill Road. \nThis Mushroom Tour with foraging is a very popular event. Dave skillfully and joyfully leads us through the wonderful world of Fungi.  You can’t imagine how many kinds are close at hand and what amazing roles they play in our ecology. We even end with a serenade. \nThe entrance kiosk to Trinity Preserve is on the west side of Dibble Hill Road between numbers 134 and 152. No pets\, please. Registration is required at CornwallConservationTrust.org. Check website on the day for updates.
URL:https://cornwallct.org/event/cct-annual-mushroom-walk-with-dave-paton/
END:VEVENT
END:VCALENDAR