BEGIN:VCALENDAR
VERSION:2.0
PRODID:-//Cornwall CT - ECPv6.15.20//NONSGML v1.0//EN
CALSCALE:GREGORIAN
METHOD:PUBLISH
X-WR-CALNAME:Cornwall CT
X-ORIGINAL-URL:https://cornwallct.org
X-WR-CALDESC:Events for Cornwall CT
REFRESH-INTERVAL;VALUE=DURATION:PT1H
X-Robots-Tag:noindex
X-PUBLISHED-TTL:PT1H
BEGIN:VTIMEZONE
TZID:America/New_York
BEGIN:DAYLIGHT
TZOFFSETFROM:-0500
TZOFFSETTO:-0400
TZNAME:EDT
DTSTART:20240310T070000
END:DAYLIGHT
BEGIN:STANDARD
TZOFFSETFROM:-0400
TZOFFSETTO:-0500
TZNAME:EST
DTSTART:20241103T060000
END:STANDARD
BEGIN:DAYLIGHT
TZOFFSETFROM:-0500
TZOFFSETTO:-0400
TZNAME:EDT
DTSTART:20250309T070000
END:DAYLIGHT
BEGIN:STANDARD
TZOFFSETFROM:-0400
TZOFFSETTO:-0500
TZNAME:EST
DTSTART:20251102T060000
END:STANDARD
BEGIN:DAYLIGHT
TZOFFSETFROM:-0500
TZOFFSETTO:-0400
TZNAME:EDT
DTSTART:20260308T070000
END:DAYLIGHT
BEGIN:STANDARD
TZOFFSETFROM:-0400
TZOFFSETTO:-0500
TZNAME:EST
DTSTART:20261101T060000
END:STANDARD
END:VTIMEZONE
BEGIN:VEVENT
DTSTART;TZID=America/New_York:20250927T100000
DTEND;TZID=America/New_York:20250927T113000
DTSTAMP:20260421T125255
CREATED:20250816T174414Z
LAST-MODIFIED:20250816T174414Z
UID:32020-1758967200-1758972600@cornwallct.org
SUMMARY:Art class with Collette Hurst\, Try Gouache Opaque Watercolors
DESCRIPTION:Learn how to use gouache opaque paints for sketches and finished paintings. Class will cover how this medium is used to create layered work that resembles oil painting styles and techniques and how it can be used in combination with transparent watercolors. Participants will create paintings with supplies provided free for use at the class through a grant from the Joelle Sander Memorial Fund. \n$75 includes 3 weekly Saturday sessions – payable to the instructor at class. \nRegistration is required at cornwalllibrary.org or 860-672-6874
URL:https://cornwallct.org/event/art-class-with-collette-hurst-try-gouache-opaque-watercolors/2025-09-27/
LOCATION:The Cornwall Library\, 30 Pine St\, Cornwall\, CT\, 06753\, United States
ORGANIZER;CN="The Cornwall Library":MAILTO:director@cornwalllibrary.org
END:VEVENT
BEGIN:VEVENT
DTSTART;TZID=America/New_York:20250920T100000
DTEND;TZID=America/New_York:20250920T113000
DTSTAMP:20260421T125255
CREATED:20250816T174414Z
LAST-MODIFIED:20250816T174414Z
UID:32019-1758362400-1758367800@cornwallct.org
SUMMARY:Art class with Collette Hurst\, Try Gouache Opaque Watercolors
DESCRIPTION:Learn how to use gouache opaque paints for sketches and finished paintings. Class will cover how this medium is used to create layered work that resembles oil painting styles and techniques and how it can be used in combination with transparent watercolors. Participants will create paintings with supplies provided free for use at the class through a grant from the Joelle Sander Memorial Fund. \n$75 includes 3 weekly Saturday sessions – payable to the instructor at class. \nRegistration is required at cornwalllibrary.org or 860-672-6874
URL:https://cornwallct.org/event/art-class-with-collette-hurst-try-gouache-opaque-watercolors/2025-09-20/
LOCATION:The Cornwall Library\, 30 Pine St\, Cornwall\, CT\, 06753\, United States
ORGANIZER;CN="The Cornwall Library":MAILTO:director@cornwalllibrary.org
END:VEVENT
BEGIN:VEVENT
DTSTART;TZID=America/New_York:20250913T100000
DTEND;TZID=America/New_York:20250913T113000
DTSTAMP:20260421T125255
CREATED:20250816T174414Z
LAST-MODIFIED:20250816T174414Z
UID:32018-1757757600-1757763000@cornwallct.org
SUMMARY:Art class with Collette Hurst\, Try Gouache Opaque Watercolors
DESCRIPTION:Learn how to use gouache opaque paints for sketches and finished paintings. Class will cover how this medium is used to create layered work that resembles oil painting styles and techniques and how it can be used in combination with transparent watercolors. Participants will create paintings with supplies provided free for use at the class through a grant from the Joelle Sander Memorial Fund. \n$75 includes 3 weekly Saturday sessions – payable to the instructor at class. \nRegistration is required at cornwalllibrary.org or 860-672-6874
URL:https://cornwallct.org/event/art-class-with-collette-hurst-try-gouache-opaque-watercolors/2025-09-13/
LOCATION:The Cornwall Library\, 30 Pine St\, Cornwall\, CT\, 06753\, United States
ORGANIZER;CN="The Cornwall Library":MAILTO:director@cornwalllibrary.org
END:VEVENT
END:VCALENDAR