BEGIN:VCALENDAR
VERSION:2.0
PRODID:-//Cornwall CT - ECPv6.15.20//NONSGML v1.0//EN
CALSCALE:GREGORIAN
METHOD:PUBLISH
X-WR-CALNAME:Cornwall CT
X-ORIGINAL-URL:https://cornwallct.org
X-WR-CALDESC:Events for Cornwall CT
REFRESH-INTERVAL;VALUE=DURATION:PT1H
X-Robots-Tag:noindex
X-PUBLISHED-TTL:PT1H
BEGIN:VTIMEZONE
TZID:America/New_York
BEGIN:DAYLIGHT
TZOFFSETFROM:-0500
TZOFFSETTO:-0400
TZNAME:EDT
DTSTART:20230312T070000
END:DAYLIGHT
BEGIN:STANDARD
TZOFFSETFROM:-0400
TZOFFSETTO:-0500
TZNAME:EST
DTSTART:20231105T060000
END:STANDARD
BEGIN:DAYLIGHT
TZOFFSETFROM:-0500
TZOFFSETTO:-0400
TZNAME:EDT
DTSTART:20240310T070000
END:DAYLIGHT
BEGIN:STANDARD
TZOFFSETFROM:-0400
TZOFFSETTO:-0500
TZNAME:EST
DTSTART:20241103T060000
END:STANDARD
BEGIN:DAYLIGHT
TZOFFSETFROM:-0500
TZOFFSETTO:-0400
TZNAME:EDT
DTSTART:20250309T070000
END:DAYLIGHT
BEGIN:STANDARD
TZOFFSETFROM:-0400
TZOFFSETTO:-0500
TZNAME:EST
DTSTART:20251102T060000
END:STANDARD
END:VTIMEZONE
BEGIN:VEVENT
DTSTART;TZID=America/New_York:20241128T090000
DTEND;TZID=America/New_York:20241128T110000
DTSTAMP:20260421T212526
CREATED:20241118T220115Z
LAST-MODIFIED:20241126T145020Z
UID:29593-1732784400-1732791600@cornwallct.org
SUMMARY:3rd Annual Cornwall Turkey Trot
DESCRIPTION:Join us for the 3rd Annual Cornwall Turkey Trot & Fun Run to support the Cornwall Library. Meet at the Town Green on Pine St. Join the Cornwall Library at 9 AM for a Turkey Trot Fun Run before the big feast. Prizes (1st and 2nd place) will be awarded for a kids’ sprint and a one-mile adult run. Refreshments will be available for purchase. The mile long race goes around Cornwall village. Race starts at 9 AM!  \n\n\n \nRegister Today!\n https://cornwalllibrary.app.neoncrm.com/np/clients/cornwalllibrary/eventRegistration.jsp?event=1413&
URL:https://cornwallct.org/event/3rd-annual-cornwall-turkey-trot/
LOCATION:The Cornwall Library\, 30 Pine St\, Cornwall\, CT\, 06753\, United States
ATTACH;FMTTYPE=image/jpeg:https://cornwallct.org/wp-content/uploads/2022/11/turkey-trot.jpg
ORGANIZER;CN="The Cornwall Library":MAILTO:director@cornwalllibrary.org
END:VEVENT
END:VCALENDAR