BEGIN:VCALENDAR
VERSION:2.0
PRODID:-//Cornwall CT - ECPv6.15.20//NONSGML v1.0//EN
CALSCALE:GREGORIAN
METHOD:PUBLISH
X-WR-CALNAME:Cornwall CT
X-ORIGINAL-URL:https://cornwallct.org
X-WR-CALDESC:Events for Cornwall CT
REFRESH-INTERVAL;VALUE=DURATION:PT1H
X-Robots-Tag:noindex
X-PUBLISHED-TTL:PT1H
BEGIN:VTIMEZONE
TZID:America/New_York
BEGIN:DAYLIGHT
TZOFFSETFROM:-0500
TZOFFSETTO:-0400
TZNAME:EDT
DTSTART:20240310T070000
END:DAYLIGHT
BEGIN:STANDARD
TZOFFSETFROM:-0400
TZOFFSETTO:-0500
TZNAME:EST
DTSTART:20241103T060000
END:STANDARD
BEGIN:DAYLIGHT
TZOFFSETFROM:-0500
TZOFFSETTO:-0400
TZNAME:EDT
DTSTART:20250309T070000
END:DAYLIGHT
BEGIN:STANDARD
TZOFFSETFROM:-0400
TZOFFSETTO:-0500
TZNAME:EST
DTSTART:20251102T060000
END:STANDARD
BEGIN:DAYLIGHT
TZOFFSETFROM:-0500
TZOFFSETTO:-0400
TZNAME:EDT
DTSTART:20260308T070000
END:DAYLIGHT
BEGIN:STANDARD
TZOFFSETFROM:-0400
TZOFFSETTO:-0500
TZNAME:EST
DTSTART:20261101T060000
END:STANDARD
END:VTIMEZONE
BEGIN:VEVENT
DTSTART;TZID=America/New_York:20250510T070000
DTEND;TZID=America/New_York:20250510T100000
DTSTAMP:20260421T093347
CREATED:20250421T113822Z
LAST-MODIFIED:20250421T113932Z
UID:30918-1746860400-1746871200@cornwallct.org
SUMMARY:27th Annual Spring Bird Walk
DESCRIPTION:The 27th Annual Spring Bird Walk led by Art Gingert and Jean Bouteiller is Saturday\, May 10\, from 7 to about 9:30 or 10 a.m. Some “bird hiking” on trails may be involved. Limited to 10 participants. First-time birders are welcome! Bring binoculars\, wear waterproof boots\, and take precautions for black-legged ticks. Please do not wear white. Rain date\, Sunday\, May 11. Call Art at 672-0077 to register.
URL:https://cornwallct.org/event/27th-annual-spring-bird-walk/
END:VEVENT
END:VCALENDAR