BEGIN:VCALENDAR
VERSION:2.0
PRODID:-//Cornwall CT - ECPv6.15.20//NONSGML v1.0//EN
CALSCALE:GREGORIAN
METHOD:PUBLISH
X-WR-CALNAME:Cornwall CT
X-ORIGINAL-URL:https://cornwallct.org
X-WR-CALDESC:Events for Cornwall CT
REFRESH-INTERVAL;VALUE=DURATION:PT1H
X-Robots-Tag:noindex
X-PUBLISHED-TTL:PT1H
BEGIN:VTIMEZONE
TZID:America/New_York
BEGIN:DAYLIGHT
TZOFFSETFROM:-0500
TZOFFSETTO:-0400
TZNAME:EDT
DTSTART:20220313T070000
END:DAYLIGHT
BEGIN:STANDARD
TZOFFSETFROM:-0400
TZOFFSETTO:-0500
TZNAME:EST
DTSTART:20221106T060000
END:STANDARD
BEGIN:DAYLIGHT
TZOFFSETFROM:-0500
TZOFFSETTO:-0400
TZNAME:EDT
DTSTART:20230312T070000
END:DAYLIGHT
BEGIN:STANDARD
TZOFFSETFROM:-0400
TZOFFSETTO:-0500
TZNAME:EST
DTSTART:20231105T060000
END:STANDARD
BEGIN:DAYLIGHT
TZOFFSETFROM:-0500
TZOFFSETTO:-0400
TZNAME:EDT
DTSTART:20240310T070000
END:DAYLIGHT
BEGIN:STANDARD
TZOFFSETFROM:-0400
TZOFFSETTO:-0500
TZNAME:EST
DTSTART:20241103T060000
END:STANDARD
END:VTIMEZONE
BEGIN:VEVENT
DTSTART;TZID=America/New_York:20230506T070000
DTEND;TZID=America/New_York:20230506T093000
DTSTAMP:20260425T151145
CREATED:20230424T183222Z
LAST-MODIFIED:20230503T220857Z
UID:22279-1683356400-1683365400@cornwallct.org
SUMMARY:25th Annual Spring Bird Walk
DESCRIPTION:The 25th Annual Spring Bird Walk (and hike) led by Art Gingert and Jean Bouteiller will take place on Saturday May 6th from 7AM to about 9:30AM.   Limited to 12 participants — first-time birders are welcome!  Bring binoculars\, wear waterproof boots and take precautions for blacklegged ticks.  Please do not wear white.  Rain date\, Sunday May 7th. Please call Art at 672-0077 to register and for details.
URL:https://cornwallct.org/event/25th-annual-spring-bird-walk/
ATTACH;FMTTYPE=image/jpeg:https://cornwallct.org/wp-content/uploads/2019/04/birdwatchers.jpg
END:VEVENT
END:VCALENDAR